BEGIN:VCALENDAR
VERSION:2.0
PRODID:-//Agenda Cofrade 365 Días - ECPv6.3.7//NONSGML v1.0//EN
CALSCALE:GREGORIAN
METHOD:PUBLISH
X-ORIGINAL-URL:https://cordobacapitalcofrade.com
X-WR-CALDESC:Eventos para Agenda Cofrade 365 Días
REFRESH-INTERVAL;VALUE=DURATION:PT1H
X-Robots-Tag:noindex
X-PUBLISHED-TTL:PT1H
BEGIN:VTIMEZONE
TZID:UTC
BEGIN:STANDARD
TZOFFSETFROM:+0000
TZOFFSETTO:+0000
TZNAME:UTC
DTSTART:20230101T000000
END:STANDARD
END:VTIMEZONE
BEGIN:VEVENT
DTSTART;TZID=UTC:20231117T170000
DTEND;TZID=UTC:20231117T173000
DTSTAMP:20260421T152029
CREATED:20231113T154554Z
LAST-MODIFIED:20231113T154554Z
UID:306-1700240400-1700242200@cordobacapitalcofrade.com
SUMMARY:Ofrenda Floral a San Acisclo y Santa Victoria
DESCRIPTION:Ofrenda Floral a San Acisclo y Santa Victoria\, Patronos de Córdoba\, a las 17:00 horas ante el Monumento ubicado en el Puente Romano.
URL:https://cordobacapitalcofrade.com/agenda/ofrenda-floral-a-san-acisclo-y-santa-victoria/
LOCATION:Puente Romano\, Puente Romano de Córdoba\, Av. del Alcázar\, s/n\, 14009 Córdoba\, Córdoba\, España
CATEGORIES:Cultos
ATTACH;FMTTYPE=image/jpeg:https://cordobacapitalcofrade.com/wp-content/uploads/2023/11/4b30059f227577ab2c18f72a5793305b.jpg
END:VEVENT
BEGIN:VEVENT
DTSTART;TZID=UTC:20231117T190000
DTEND;TZID=UTC:20231117T200000
DTSTAMP:20260421T152029
CREATED:20231113T154940Z
LAST-MODIFIED:20231113T154940Z
UID:311-1700247600-1700251200@cordobacapitalcofrade.com
SUMMARY:Santa Misa de Rito Hispano-Mozárabe en honor a San Acisclo y Santa Victoria
DESCRIPTION:Santa Misa de Rito Hispano-Mozárabe en honor a San Acisclo y Santa Victoria presidida por el Obispo de Córdoba\, Don Demetrio Fernández\,  a las 19:00 horas en la Basílica de San Pedro.
URL:https://cordobacapitalcofrade.com/agenda/santa-misa-de-rito-hispano-mozarabe-en-honor-a-san-acisclo-y-santa-victoria/
LOCATION:Basílica de San Pedro\, Pl. de San Pedro\, 1\, 14002 Córdoba\, Córdoba\, España
CATEGORIES:Cultos
ATTACH;FMTTYPE=image/jpeg:https://cordobacapitalcofrade.com/wp-content/uploads/2023/11/1637188967.jpg
END:VEVENT
END:VCALENDAR