BEGIN:VCALENDAR
VERSION:2.0
PRODID:-//Agenda Cofrade 365 Días - ECPv6.3.7//NONSGML v1.0//EN
CALSCALE:GREGORIAN
METHOD:PUBLISH
X-WR-CALNAME:Agenda Cofrade 365 Días
X-ORIGINAL-URL:https://cordobacapitalcofrade.com
X-WR-CALDESC:Eventos para Agenda Cofrade 365 Días
REFRESH-INTERVAL;VALUE=DURATION:PT1H
X-Robots-Tag:noindex
X-PUBLISHED-TTL:PT1H
BEGIN:VTIMEZONE
TZID:UTC
BEGIN:STANDARD
TZOFFSETFROM:+0000
TZOFFSETTO:+0000
TZNAME:UTC
DTSTART:20240101T000000
END:STANDARD
END:VTIMEZONE
BEGIN:VEVENT
DTSTART;TZID=UTC:20240209T213000
DTEND;TZID=UTC:20240210T003000
DTSTAMP:20260421T041738
CREATED:20240205T154724Z
LAST-MODIFIED:20240205T154724Z
UID:2122-1707514200-1707525000@cordobacapitalcofrade.com
SUMMARY:1er ensayo de costaleros de Nuestra Señora de las Lágrimas en su Desamparo
DESCRIPTION:1er ensayo de costaleros de Nuestra Señora de las Lágrimas en su Desamparo a las 21:30 horas en la Casa de Hdad.
URL:https://cordobacapitalcofrade.com/agenda/1er-ensayo-de-costaleros-de-nuestra-senora-de-las-lagrimas-en-su-desamparo/
LOCATION:Casa de Hermandad de la Misericordia\, Pl. de San Pedro\, 23\, Centro\, 14002 Córdoba\, Córdoba\, España
CATEGORIES:Ensayos Costaleros
ATTACH;FMTTYPE=image/jpeg:https://cordobacapitalcofrade.com/wp-content/uploads/2024/02/beamanos-a-la-virgen-de-las-lagrimas-1.jpg
END:VEVENT
BEGIN:VEVENT
DTSTART;TZID=UTC:20240214T201500
DTEND;TZID=UTC:20240214T211500
DTSTAMP:20260421T041738
CREATED:20240127T130255Z
LAST-MODIFIED:20240127T130255Z
UID:2018-1707941700-1707945300@cordobacapitalcofrade.com
SUMMARY:Solemne Quinario del Santísimo Cristo de la Misericordia
DESCRIPTION:Solemne Quinario del Santísimo Cristo de la Misericordia a las 20:15 horas en la Basílica de San Pedro.
URL:https://cordobacapitalcofrade.com/agenda/solemne-quinario-del-santisimo-cristo-de-la-misericordia/
LOCATION:Basílica de San Pedro\, Pl. de San Pedro\, 1\, 14002 Córdoba\, Córdoba\, España
CATEGORIES:Cultos
ATTACH;FMTTYPE=image/jpeg:https://cordobacapitalcofrade.com/wp-content/uploads/2024/01/Quinario-Misericordia-0012-min-scaled.jpg
END:VEVENT
BEGIN:VEVENT
DTSTART;TZID=UTC:20240215T190000
DTEND;TZID=UTC:20240217T200000
DTSTAMP:20260421T041738
CREATED:20240127T130541Z
LAST-MODIFIED:20240127T130541Z
UID:2021-1708023600-1708200000@cordobacapitalcofrade.com
SUMMARY:Solemne Quinario del Santísimo Cristo de la Misericordia
DESCRIPTION:Solemne Quinario del Santísimo Cristo de la Misericordia a las 19:00 horas en la Basílica de San Pedro.
URL:https://cordobacapitalcofrade.com/agenda/solemne-quinario-del-santisimo-cristo-de-la-misericordia-2/
LOCATION:Basílica de San Pedro\, Pl. de San Pedro\, 1\, 14002 Córdoba\, Córdoba\, España
CATEGORIES:Cultos
ATTACH;FMTTYPE=image/jpeg:https://cordobacapitalcofrade.com/wp-content/uploads/2024/01/Quinario-Misericordia-0012-min-scaled.jpg
END:VEVENT
BEGIN:VEVENT
DTSTART;TZID=UTC:20240218T124500
DTEND;TZID=UTC:20240218T134500
DTSTAMP:20260421T041738
CREATED:20240127T130904Z
LAST-MODIFIED:20240127T130904Z
UID:2023-1708260300-1708263900@cordobacapitalcofrade.com
SUMMARY:Fiesta de Regla de la Hermandad de la Misericordia
DESCRIPTION:Fiesta de Regla de la Hermandad de la Misericordia a las 12:45 horas en la Basílica de San Pedro.
URL:https://cordobacapitalcofrade.com/agenda/fiesta-de-regla-de-la-hermandad-de-la-misericordia/
LOCATION:Basílica de San Pedro\, Pl. de San Pedro\, 1\, 14002 Córdoba\, Córdoba\, España
CATEGORIES:Cultos
ATTACH;FMTTYPE=image/jpeg:https://cordobacapitalcofrade.com/wp-content/uploads/2024/01/Quinario-Misericordia-0012-min-scaled.jpg
END:VEVENT
END:VCALENDAR