BEGIN:VCALENDAR
VERSION:2.0
PRODID:-//Agenda Cofrade 365 Días - ECPv6.3.7//NONSGML v1.0//EN
CALSCALE:GREGORIAN
METHOD:PUBLISH
X-WR-CALNAME:Agenda Cofrade 365 Días
X-ORIGINAL-URL:https://cordobacapitalcofrade.com
X-WR-CALDESC:Eventos para Agenda Cofrade 365 Días
REFRESH-INTERVAL;VALUE=DURATION:PT1H
X-Robots-Tag:noindex
X-PUBLISHED-TTL:PT1H
BEGIN:VTIMEZONE
TZID:UTC
BEGIN:STANDARD
TZOFFSETFROM:+0000
TZOFFSETTO:+0000
TZNAME:UTC
DTSTART:20240101T000000
END:STANDARD
END:VTIMEZONE
BEGIN:VEVENT
DTSTART;TZID=UTC:20240209T213000
DTEND;TZID=UTC:20240210T003000
DTSTAMP:20260421T092635
CREATED:20240205T154724Z
LAST-MODIFIED:20240205T154724Z
UID:2122-1707514200-1707525000@cordobacapitalcofrade.com
SUMMARY:1er ensayo de costaleros de Nuestra Señora de las Lágrimas en su Desamparo
DESCRIPTION:1er ensayo de costaleros de Nuestra Señora de las Lágrimas en su Desamparo a las 21:30 horas en la Casa de Hdad.
URL:https://cordobacapitalcofrade.com/agenda/1er-ensayo-de-costaleros-de-nuestra-senora-de-las-lagrimas-en-su-desamparo/
LOCATION:Casa de Hermandad de la Misericordia\, Pl. de San Pedro\, 23\, Centro\, 14002 Córdoba\, Córdoba\, España
CATEGORIES:Ensayos Costaleros
ATTACH;FMTTYPE=image/jpeg:https://cordobacapitalcofrade.com/wp-content/uploads/2024/02/beamanos-a-la-virgen-de-las-lagrimas-1.jpg
END:VEVENT
END:VCALENDAR