BEGIN:VCALENDAR
VERSION:2.0
PRODID:-//Agenda Cofrade 365 Días - ECPv6.3.7//NONSGML v1.0//EN
CALSCALE:GREGORIAN
METHOD:PUBLISH
X-WR-CALNAME:Agenda Cofrade 365 Días
X-ORIGINAL-URL:https://cordobacapitalcofrade.com
X-WR-CALDESC:Eventos para Agenda Cofrade 365 Días
REFRESH-INTERVAL;VALUE=DURATION:PT1H
X-Robots-Tag:noindex
X-PUBLISHED-TTL:PT1H
BEGIN:VTIMEZONE
TZID:UTC
BEGIN:STANDARD
TZOFFSETFROM:+0000
TZOFFSETTO:+0000
TZNAME:UTC
DTSTART:20240101T000000
END:STANDARD
END:VTIMEZONE
BEGIN:VEVENT
DTSTART;TZID=UTC:20240316T100000
DTEND;TZID=UTC:20240316T190000
DTSTAMP:20260421T060503
CREATED:20240222T165041Z
LAST-MODIFIED:20240222T165041Z
UID:2440-1710583200-1710615600@cordobacapitalcofrade.com
SUMMARY:Veneración de los fieles a Nuestra Señora de las Lágrimas
DESCRIPTION:Veneración de los fieles a Nuestra Señora de las Lágrimas en horario de 10:00 a 14:00 horas y de 17:00 a 19:00 horas en la Basílica de San Pedro.
URL:https://cordobacapitalcofrade.com/agenda/veneracion-de-los-fieles-a-nuestra-senora-de-las-lagrimas/
LOCATION:Basílica de San Pedro\, Pl. de San Pedro\, 1\, 14002 Córdoba\, Córdoba\, España
CATEGORIES:Cultos
ATTACH;FMTTYPE=image/jpeg:https://cordobacapitalcofrade.com/wp-content/uploads/2024/02/Veneracion-Lagrimas-0140-scaled.jpg
END:VEVENT
END:VCALENDAR