BEGIN:VCALENDAR
VERSION:2.0
PRODID:-//Agenda Cofrade 365 Días - ECPv6.3.7//NONSGML v1.0//EN
CALSCALE:GREGORIAN
METHOD:PUBLISH
X-WR-CALNAME:Agenda Cofrade 365 Días
X-ORIGINAL-URL:https://cordobacapitalcofrade.com
X-WR-CALDESC:Eventos para Agenda Cofrade 365 Días
REFRESH-INTERVAL;VALUE=DURATION:PT1H
X-Robots-Tag:noindex
X-PUBLISHED-TTL:PT1H
BEGIN:VTIMEZONE
TZID:UTC
BEGIN:STANDARD
TZOFFSETFROM:+0000
TZOFFSETTO:+0000
TZNAME:UTC
DTSTART:20240101T000000
END:STANDARD
END:VTIMEZONE
BEGIN:VEVENT
DTSTART;TZID=UTC:20240913T193000
DTEND;TZID=UTC:20240914T203000
DTSTAMP:20260419T222324
CREATED:20240903T161441Z
LAST-MODIFIED:20240903T161441Z
UID:3343-1726255800-1726345800@cordobacapitalcofrade.com
SUMMARY:Triduo en honor de Nuestra Señora de las Lágrimas en su Desamparo
DESCRIPTION:Triduo en honor de Nuestra Señora de las Lágrimas en su Desamparo a las 20:00 horas en la Basílica de San Pedro. Previamente\, a las 19:30 horas\, Exposición de su Divina Majestad\, Rezo del Santo Rosario\, Ejercicio del Triduo y Reserva. \nOficia la Eucaristía el Ilmo. Sr. D. Domingo Moreno Ramírez\, rector de la Basílica de San Pedro y Párroco de la Parroquia de Santiago Apóstol de Córdoba.
URL:https://cordobacapitalcofrade.com/agenda/triduo-en-honor-de-nuestra-senora-de-las-lagrimas-en-su-desamparo/
LOCATION:Basílica de San Pedro\, Pl. de San Pedro\, 1\, 14002 Córdoba\, Córdoba\, España
CATEGORIES:Cultos
ATTACH;FMTTYPE=image/jpeg:https://cordobacapitalcofrade.com/wp-content/uploads/2024/09/Triduo-Lagrimas-0039-scaled.jpg
END:VEVENT
END:VCALENDAR