BEGIN:VCALENDAR
VERSION:2.0
PRODID:-//Agenda Cofrade 365 Días - ECPv6.3.7//NONSGML v1.0//EN
CALSCALE:GREGORIAN
METHOD:PUBLISH
X-ORIGINAL-URL:https://cordobacapitalcofrade.com
X-WR-CALDESC:Eventos para Agenda Cofrade 365 Días
REFRESH-INTERVAL;VALUE=DURATION:PT1H
X-Robots-Tag:noindex
X-PUBLISHED-TTL:PT1H
BEGIN:VTIMEZONE
TZID:UTC
BEGIN:STANDARD
TZOFFSETFROM:+0000
TZOFFSETTO:+0000
TZNAME:UTC
DTSTART:20250101T000000
END:STANDARD
END:VTIMEZONE
BEGIN:VEVENT
DTSTART;TZID=UTC:20250103T173000
DTEND;TZID=UTC:20250103T190000
DTSTAMP:20260420T112030
CREATED:20250102T185145Z
LAST-MODIFIED:20250102T185145Z
UID:4826-1735925400-1735930800@cordobacapitalcofrade.com
SUMMARY:Visita del Cartero Real de los Reyes Magos a la Hermandad de la Paz
DESCRIPTION:Visita del Cartero Real de los Reyes Magos\, a partir de las 17:30 horas en la Casa de Hdad. sita en la Cuesta del Bailío.
URL:https://cordobacapitalcofrade.com/agenda/visita-del-cartero-real-de-los-reyes-magos-a-la-hermandad-de-la-paz/
LOCATION:Casa Hermandad de la Paz y Esperanza\, Nuestra Señora de la Paz y Esperanza\, 4\, Córdoba\, Córdoba\, 14001\, España
CATEGORIES:Cartero Real
ATTACH;FMTTYPE=image/jpeg:https://cordobacapitalcofrade.com/wp-content/uploads/2025/01/471694413_929668645965022_580458106622430199_n.jpg
END:VEVENT
BEGIN:VEVENT
DTSTART;TZID=UTC:20250104T170000
DTEND;TZID=UTC:20250104T200000
DTSTAMP:20260420T112030
CREATED:20250102T190428Z
LAST-MODIFIED:20250102T190428Z
UID:4835-1736010000-1736020800@cordobacapitalcofrade.com
SUMMARY:Visita de sus Majestades los Reyes Magos de Oriente a las Hermandades de Capuchinos
DESCRIPTION:Visita de sus Majestades los Reyes Magos de Oriente a las 17:00 horas en la nave de salida en la Plaza de Capuchinos.
URL:https://cordobacapitalcofrade.com/agenda/visita-de-sus-majestades-los-reyes-magos-de-oriente-a-las-hermandades-de-capuchinos/
LOCATION:Plaza de Capuchinos\, Cordoba\, Cordoba\, Cordoba\, 14001\, España
CATEGORIES:Cartero Real
ATTACH;FMTTYPE=image/jpeg:https://cordobacapitalcofrade.com/wp-content/uploads/2025/01/471433402_1014552557375380_952047034116963187_n.jpg
END:VEVENT
BEGIN:VEVENT
DTSTART;TZID=UTC:20250117T210000
DTEND;TZID=UTC:20250117T220000
DTSTAMP:20260420T112030
CREATED:20241207T122756Z
LAST-MODIFIED:20241207T122756Z
UID:4531-1737147600-1737151200@cordobacapitalcofrade.com
SUMMARY:Igualá de costaleros de María Santísima de la Paz y Esperanza Coronada
DESCRIPTION:Igualá de costaleros de María Santísima de la Paz y Esperanza Coronada\, a las 21:00 horas en la nave de salida en la Plaza de Capuchinos.
URL:https://cordobacapitalcofrade.com/agenda/iguala-de-costaleros-de-maria-santisima-de-la-paz-y-esperanza-coronada-2/
LOCATION:Plaza de Capuchinos\, Cordoba\, Cordoba\, Cordoba\, 14001\, España
CATEGORIES:Igualás de costaleros
ATTACH;FMTTYPE=image/jpeg:https://cordobacapitalcofrade.com/wp-content/uploads/2024/12/468996769_10225763251540332_7242471970509556053_n.jpg
END:VEVENT
BEGIN:VEVENT
DTSTART;TZID=UTC:20250123T200000
DTEND;TZID=UTC:20250124T210000
DTSTAMP:20260420T112030
CREATED:20250114T162316Z
LAST-MODIFIED:20250114T162316Z
UID:4948-1737662400-1737752400@cordobacapitalcofrade.com
SUMMARY:Solemne Triduo en honor de María Santísima de la Paz y Esperanza Coronada
DESCRIPTION:Solemne Triduo en honor de María Santísima de la Paz y Esperanza Coronada\, a las 20:00 horas en la Iglesia Conventual del Santo Ángel (Capuchinos).
URL:https://cordobacapitalcofrade.com/agenda/solemne-triduo-en-honor-de-maria-santisima-de-la-paz-y-esperanza-coronada/
LOCATION:Iglesia Conventual del Santo Ángel (Capuchinos)\, Pl. de Capuchinos\, 5\, Córdoba\, España
CATEGORIES:Cultos
ATTACH;FMTTYPE=image/jpeg:https://cordobacapitalcofrade.com/wp-content/uploads/2025/01/422580702_717470227184866_5223451622012967710_n.jpg
END:VEVENT
BEGIN:VEVENT
DTSTART;TZID=UTC:20250125T190000
DTEND;TZID=UTC:20250125T200000
DTSTAMP:20260420T112030
CREATED:20250114T162447Z
LAST-MODIFIED:20250114T162447Z
UID:4951-1737831600-1737835200@cordobacapitalcofrade.com
SUMMARY:Solemne Triduo en honor de María Santísima de la Paz y Esperanza Coronada
DESCRIPTION:Solemne Triduo en honor de María Santísima de la Paz y Esperanza Coronada\, a las 19:00 horas en la Iglesia Conventual del Santo Ángel (Capuchinos).
URL:https://cordobacapitalcofrade.com/agenda/solemne-triduo-en-honor-de-maria-santisima-de-la-paz-y-esperanza-coronada-2/
LOCATION:Iglesia Conventual del Santo Ángel (Capuchinos)\, Pl. de Capuchinos\, 5\, Córdoba\, España
CATEGORIES:Cultos
ATTACH;FMTTYPE=image/jpeg:https://cordobacapitalcofrade.com/wp-content/uploads/2025/01/422580702_717470227184866_5223451622012967710_n.jpg
END:VEVENT
BEGIN:VEVENT
DTSTART;TZID=UTC:20250125T203000
DTEND;TZID=UTC:20250125T213000
DTSTAMP:20260420T112030
CREATED:20250120T140848Z
LAST-MODIFIED:20250120T140848Z
UID:4992-1737837000-1737840600@cordobacapitalcofrade.com
SUMMARY:Concierto de marchas procesionales a cargo de la Banda de Música Municipal de Arahal
DESCRIPTION:Concierto de marchas procesionales a cargo de la Banda de Música Municipal de Arahal (Sevilla)\, a las 20:30 horas en la Iglesia Conventual del Santo Ángel (Capuchinos).
URL:https://cordobacapitalcofrade.com/agenda/concierto-de-marchas-procesionales-a-cargo-de-la-banda-de-musica-municipal-de-arahal/
LOCATION:Iglesia Conventual del Santo Ángel (Capuchinos)\, Pl. de Capuchinos\, 5\, Córdoba\, España
CATEGORIES:Conciertos
ATTACH;FMTTYPE=image/jpeg:https://cordobacapitalcofrade.com/wp-content/uploads/2025/01/473228188_999380668675630_2080968393689822554_n.jpg
END:VEVENT
BEGIN:VEVENT
DTSTART;TZID=UTC:20250126T123000
DTEND;TZID=UTC:20250126T133000
DTSTAMP:20260420T112030
CREATED:20250114T162716Z
LAST-MODIFIED:20250114T162716Z
UID:4953-1737894600-1737898200@cordobacapitalcofrade.com
SUMMARY:Solemne Función Principal de María Santísima de la Paz y Esperanza Coronada
DESCRIPTION:Solemne Función Principal de María Santísima de la Paz y Esperanza Coronada\, a las 12:30 horas en la Iglesia Conventual del Santo Ángel (Capuchinos).
URL:https://cordobacapitalcofrade.com/agenda/solemne-funcion-principal-de-maria-santisima-de-la-paz-y-esperanza-coronada/
LOCATION:Iglesia Conventual del Santo Ángel (Capuchinos)\, Pl. de Capuchinos\, 5\, Córdoba\, España
CATEGORIES:Cultos
ATTACH;FMTTYPE=image/jpeg:https://cordobacapitalcofrade.com/wp-content/uploads/2025/01/422580702_717470227184866_5223451622012967710_n.jpg
END:VEVENT
BEGIN:VEVENT
DTSTART;TZID=UTC:20250131T210000
DTEND;TZID=UTC:20250131T223000
DTSTAMP:20260420T112030
CREATED:20241031T141629Z
LAST-MODIFIED:20241031T141643Z
UID:3911-1738357200-1738362600@cordobacapitalcofrade.com
SUMMARY:Igualá de costaleros de Nuestro Padre Jesús de la Humildad y Paciencia
DESCRIPTION:Igualá de costaleros de Nuestro Padre Jesús de la Humildad y Paciencia\, a las 21:00 horas en la Plaza de Capuchinos.
URL:https://cordobacapitalcofrade.com/agenda/iguala-de-costaleros-de-nuestro-padre-jesus-de-la-humildad-y-paciencia-2/
LOCATION:Plaza de Capuchinos\, Cordoba\, Cordoba\, Cordoba\, 14001\, España
CATEGORIES:Igualás de costaleros
ATTACH;FMTTYPE=image/jpeg:https://cordobacapitalcofrade.com/wp-content/uploads/2024/10/Foto-de-Alvaro-Cordoba.jpg
END:VEVENT
END:VCALENDAR