BEGIN:VCALENDAR
VERSION:2.0
PRODID:-//Agenda Cofrade 365 Días - ECPv6.3.7//NONSGML v1.0//EN
CALSCALE:GREGORIAN
METHOD:PUBLISH
X-ORIGINAL-URL:https://cordobacapitalcofrade.com
X-WR-CALDESC:Eventos para Agenda Cofrade 365 Días
REFRESH-INTERVAL;VALUE=DURATION:PT1H
X-Robots-Tag:noindex
X-PUBLISHED-TTL:PT1H
BEGIN:VTIMEZONE
TZID:UTC
BEGIN:STANDARD
TZOFFSETFROM:+0000
TZOFFSETTO:+0000
TZNAME:UTC
DTSTART:20250101T000000
END:STANDARD
END:VTIMEZONE
BEGIN:VEVENT
DTSTART;TZID=UTC:20250117T210000
DTEND;TZID=UTC:20250117T220000
DTSTAMP:20260420T172708
CREATED:20241207T122756Z
LAST-MODIFIED:20241207T122756Z
UID:4531-1737147600-1737151200@cordobacapitalcofrade.com
SUMMARY:Igualá de costaleros de María Santísima de la Paz y Esperanza Coronada
DESCRIPTION:Igualá de costaleros de María Santísima de la Paz y Esperanza Coronada\, a las 21:00 horas en la nave de salida en la Plaza de Capuchinos.
URL:https://cordobacapitalcofrade.com/agenda/iguala-de-costaleros-de-maria-santisima-de-la-paz-y-esperanza-coronada-2/
LOCATION:Plaza de Capuchinos\, Cordoba\, Cordoba\, Cordoba\, 14001\, España
CATEGORIES:Igualás de costaleros
ATTACH;FMTTYPE=image/jpeg:https://cordobacapitalcofrade.com/wp-content/uploads/2024/12/468996769_10225763251540332_7242471970509556053_n.jpg
END:VEVENT
END:VCALENDAR