BEGIN:VCALENDAR
VERSION:2.0
PRODID:-//Agenda Cofrade 365 Días - ECPv6.3.7//NONSGML v1.0//EN
CALSCALE:GREGORIAN
METHOD:PUBLISH
X-WR-CALNAME:Agenda Cofrade 365 Días
X-ORIGINAL-URL:https://cordobacapitalcofrade.com
X-WR-CALDESC:Eventos para Agenda Cofrade 365 Días
REFRESH-INTERVAL;VALUE=DURATION:PT1H
X-Robots-Tag:noindex
X-PUBLISHED-TTL:PT1H
BEGIN:VTIMEZONE
TZID:UTC
BEGIN:STANDARD
TZOFFSETFROM:+0000
TZOFFSETTO:+0000
TZNAME:UTC
DTSTART:20250101T000000
END:STANDARD
END:VTIMEZONE
BEGIN:VEVENT
DTSTART;TZID=UTC:20250328T210000
DTEND;TZID=UTC:20250328T235900
DTSTAMP:20260422T090055
CREATED:20241207T123534Z
LAST-MODIFIED:20241207T123534Z
UID:4542-1743195600-1743206340@cordobacapitalcofrade.com
SUMMARY:4º Ensayo de costaleros de María Santísima de la Paz y Esperanza Coronada
DESCRIPTION:4º Ensayo de costaleros de María Santísima de la Paz y Esperanza Coronada\, a las 21:00 horas desde la nave de salida en la Plaza de Capuchinos.
URL:https://cordobacapitalcofrade.com/agenda/4o-ensayo-de-costaleros-de-maria-santisima-de-la-paz-y-esperanza-coronada/
LOCATION:Plaza de Capuchinos\, Cordoba\, Cordoba\, Cordoba\, 14001\, España
CATEGORIES:Ensayos Costaleros
ATTACH;FMTTYPE=image/jpeg:https://cordobacapitalcofrade.com/wp-content/uploads/2024/12/la-paz-15-1.jpg
END:VEVENT
END:VCALENDAR