BEGIN:VCALENDAR
VERSION:2.0
PRODID:-//Agenda Cofrade 365 Días - ECPv6.3.7//NONSGML v1.0//EN
CALSCALE:GREGORIAN
METHOD:PUBLISH
X-WR-CALNAME:Agenda Cofrade 365 Días
X-ORIGINAL-URL:https://cordobacapitalcofrade.com
X-WR-CALDESC:Eventos para Agenda Cofrade 365 Días
REFRESH-INTERVAL;VALUE=DURATION:PT1H
X-Robots-Tag:noindex
X-PUBLISHED-TTL:PT1H
BEGIN:VTIMEZONE
TZID:UTC
BEGIN:STANDARD
TZOFFSETFROM:+0000
TZOFFSETTO:+0000
TZNAME:UTC
DTSTART:20250101T000000
END:STANDARD
END:VTIMEZONE
BEGIN:VEVENT
DTSTART;TZID=UTC:20250408T203000
DTEND;TZID=UTC:20250408T223000
DTSTAMP:20260419T185344
CREATED:20250402T150056Z
LAST-MODIFIED:20250402T150056Z
UID:5845-1744144200-1744151400@cordobacapitalcofrade.com
SUMMARY:Vía Crucis de Nuestro Padre Jesús de la Humildad y Paciencia
DESCRIPTION:Vía Crucis de Nuestro Padre Jesús de la Humildad y Paciencia desde la Iglesia Conventual del Santo Ángel (Capuchinos) con este recorrido: Salida (20:30 horas)\, Plaza de Nuestra Señora de la Paz y Esperanza\, Carbonell y Morand\, Ramírez de las Casa Deza\, Conde de Torres Cabrera\, San Zoilo\, Plaza de San Miguel (21:30 horas)\, Ramírez de Arellano\, Plaza de los Carrillos\, Plaza de Chirinos\, Manuel María de Arjona\, Osario\, Burel\, Jardines Fray Ricardo de Córdoba\, Plaza de Capuchinos y Entrada. 
URL:https://cordobacapitalcofrade.com/agenda/via-crucis-de-nuestro-padre-jesus-de-la-humildad-y-paciencia/
LOCATION:Iglesia Conventual del Santo Ángel (Capuchinos)\, Pl. de Capuchinos\, 5\, Córdoba\, España
CATEGORIES:Vía Crucis
ATTACH;FMTTYPE=image/jpeg:https://cordobacapitalcofrade.com/wp-content/uploads/2025/04/Via-Crucis-Humildad-y-Paciencia-0042-min-scaled.jpg
END:VEVENT
END:VCALENDAR