BEGIN:VCALENDAR
VERSION:2.0
PRODID:-//Agenda Cofrade 365 Días - ECPv6.3.7//NONSGML v1.0//EN
CALSCALE:GREGORIAN
METHOD:PUBLISH
X-WR-CALNAME:Agenda Cofrade 365 Días
X-ORIGINAL-URL:https://cordobacapitalcofrade.com
X-WR-CALDESC:Eventos para Agenda Cofrade 365 Días
REFRESH-INTERVAL;VALUE=DURATION:PT1H
X-Robots-Tag:noindex
X-PUBLISHED-TTL:PT1H
BEGIN:VTIMEZONE
TZID:UTC
BEGIN:STANDARD
TZOFFSETFROM:+0000
TZOFFSETTO:+0000
TZNAME:UTC
DTSTART:20240101T000000
END:STANDARD
END:VTIMEZONE
BEGIN:VEVENT
DTSTART;TZID=UTC:20240315T200000
DTEND;TZID=UTC:20240316T203000
DTSTAMP:20260425T031821
CREATED:20240311T162131Z
LAST-MODIFIED:20240311T162131Z
UID:2607-1710532800-1710621000@cordobacapitalcofrade.com
SUMMARY:Solemne Triduo del Santísimo Cristo de la Piedad
DESCRIPTION:Solemne Triduo del Santísimo Cristo de la Piedad a las 20:00 horas en la Parroquia de San Antonio María Claret.
URL:https://cordobacapitalcofrade.com/agenda/solemne-triduo-del-santisimo-cristo-de-la-piedad/
LOCATION:Parroquia de San Antonio María Claret\, C. Sierra Nevada\, 1\, Poniente Nte.\, 14005 Córdoba\, Córdoba\, España
CATEGORIES:Cultos
ATTACH;FMTTYPE=image/jpeg:https://cordobacapitalcofrade.com/wp-content/uploads/2024/03/949ccce4-ed16-420f-9f55-0b9a4639ca0a_16-9-discover-aspect-ratio_default_0.jpg
END:VEVENT
BEGIN:VEVENT
DTSTART;TZID=UTC:20240317T120000
DTEND;TZID=UTC:20240317T130000
DTSTAMP:20260425T031821
CREATED:20240311T162253Z
LAST-MODIFIED:20240311T162253Z
UID:2610-1710676800-1710680400@cordobacapitalcofrade.com
SUMMARY:Solemne Triduo del Santísimo Cristo de la Piedad
DESCRIPTION:Solemne Triduo del Santísimo Cristo de la Piedad a las 12:00 horas en la Parroquia de San Antonio María Claret.
URL:https://cordobacapitalcofrade.com/agenda/solemne-triduo-del-santisimo-cristo-de-la-piedad-2/
LOCATION:Parroquia de San Antonio María Claret\, C. Sierra Nevada\, 1\, Poniente Nte.\, 14005 Córdoba\, Córdoba\, España
CATEGORIES:Vía Crucis
ATTACH;FMTTYPE=image/jpeg:https://cordobacapitalcofrade.com/wp-content/uploads/2024/03/949ccce4-ed16-420f-9f55-0b9a4639ca0a_16-9-discover-aspect-ratio_default_0.jpg
END:VEVENT
BEGIN:VEVENT
DTSTART;TZID=UTC:20240322T200000
DTEND;TZID=UTC:20240322T213000
DTSTAMP:20260425T031821
CREATED:20240319T160558Z
LAST-MODIFIED:20240319T160558Z
UID:2665-1711137600-1711143000@cordobacapitalcofrade.com
SUMMARY:Solemne Vía Crucis del Crucificado de menor medida de la Parroquia de San Antonio María Claret
DESCRIPTION:Solemne Vía Crucis del Crucificado de menor medida de la Parroquia a las 20:00 horas en la Parroquia de San Antonio María Claret.
URL:https://cordobacapitalcofrade.com/agenda/solemne-via-crucis-del-crucificado-de-menor-medida-de-la-parroquia-de-san-antonio-maria-claret/
LOCATION:Parroquia de San Antonio María Claret\, C. Sierra Nevada\, 1\, Poniente Nte.\, 14005 Córdoba\, Córdoba\, España
CATEGORIES:Vía Crucis
ATTACH;FMTTYPE=image/jpeg:https://cordobacapitalcofrade.com/wp-content/uploads/2024/03/piedad-ssanta22-1.jpg
END:VEVENT
END:VCALENDAR