BEGIN:VCALENDAR
VERSION:2.0
PRODID:-//Agenda Cofrade 365 Días - ECPv6.3.7//NONSGML v1.0//EN
CALSCALE:GREGORIAN
METHOD:PUBLISH
X-WR-CALNAME:Agenda Cofrade 365 Días
X-ORIGINAL-URL:https://cordobacapitalcofrade.com
X-WR-CALDESC:Eventos para Agenda Cofrade 365 Días
REFRESH-INTERVAL;VALUE=DURATION:PT1H
X-Robots-Tag:noindex
X-PUBLISHED-TTL:PT1H
BEGIN:VTIMEZONE
TZID:UTC
BEGIN:STANDARD
TZOFFSETFROM:+0000
TZOFFSETTO:+0000
TZNAME:UTC
DTSTART:20240101T000000
END:STANDARD
END:VTIMEZONE
BEGIN:VEVENT
DTSTART;TZID=UTC:20240913T203000
DTEND;TZID=UTC:20240913T230000
DTSTAMP:20260423T014415
CREATED:20240901T155904Z
LAST-MODIFIED:20240901T155904Z
UID:3314-1726259400-1726268400@cordobacapitalcofrade.com
SUMMARY:Rosario Vespertino de María Santísima de Vida\, Dulzura y Esperanza Nuestra
DESCRIPTION:Rosario Vespertino de María Santísima de Vida\, Dulzura y Esperanza Nuestra desde la Parroquia de San Antonio María Claret con este recorrido: Salida (20:30 horas)\, Sierra de Guadarrama\, Sierra de Cazorla\, Juan XXIII\, Doctor Ángel Castiñeira\, Paseo de los Verdiales\, Rotonda Paseo de los Verdiales\, Avenida de Miralbaida\, Interior Parroquia del Sagrado Corazón de María\, María La Talegona\, Paseo de los Verdiales\, Barítono José María Aguilar Blanco\, Sierra de Cazorla\, Sierra de Guadarrama y Entrada. Acompañará musicalmente la Banda de Música «Cristo del Amor! de Córdoba.
URL:https://cordobacapitalcofrade.com/agenda/rosario-vespertino-de-maria-santisima-de-vida-dulzura-y-esperanza-nuestra/
LOCATION:Parroquia de San Antonio María Claret\, C. Sierra Nevada\, 1\, Poniente Nte.\, 14005 Córdoba\, Córdoba\, España
CATEGORIES:Rosario
ATTACH;FMTTYPE=image/jpeg:https://cordobacapitalcofrade.com/wp-content/uploads/2024/09/image.jpg
END:VEVENT
END:VCALENDAR