BEGIN:VCALENDAR
VERSION:2.0
PRODID:-//Agenda Cofrade 365 Días - ECPv6.3.7//NONSGML v1.0//EN
CALSCALE:GREGORIAN
METHOD:PUBLISH
X-ORIGINAL-URL:https://cordobacapitalcofrade.com
X-WR-CALDESC:Eventos para Agenda Cofrade 365 Días
REFRESH-INTERVAL;VALUE=DURATION:PT1H
X-Robots-Tag:noindex
X-PUBLISHED-TTL:PT1H
BEGIN:VTIMEZONE
TZID:UTC
BEGIN:STANDARD
TZOFFSETFROM:+0000
TZOFFSETTO:+0000
TZNAME:UTC
DTSTART:20250101T000000
END:STANDARD
END:VTIMEZONE
BEGIN:VEVENT
DTSTART;TZID=UTC:20250321T210000
DTEND;TZID=UTC:20250321T235900
DTSTAMP:20260420T060158
CREATED:20250317T173709Z
LAST-MODIFIED:20250317T173709Z
UID:5647-1742590800-1742601540@cordobacapitalcofrade.com
SUMMARY:9º Ensayo de costaleros y costaleras del Santísimo Cristo de la Piedad
DESCRIPTION:9º Ensayo de costaleros y costaleras del Santísimo Cristo de la Piedad\, a las 21:00 horas desde la Parroquia de San Antonio María Claret.
URL:https://cordobacapitalcofrade.com/agenda/9o-ensayo-de-costaleros-y-costaleras-del-santisimo-cristo-de-la-piedad/
LOCATION:Parroquia de San Antonio María Claret\, C. Sierra Nevada\, 1\, Poniente Nte.\, 14005 Córdoba\, Córdoba\, España
CATEGORIES:Ensayos Costaleros
ATTACH;FMTTYPE=image/jpeg:https://cordobacapitalcofrade.com/wp-content/uploads/2025/01/jpg-9.jpg
END:VEVENT
END:VCALENDAR