BEGIN:VCALENDAR
VERSION:2.0
PRODID:-//Agenda Cofrade 365 Días - ECPv6.3.7//NONSGML v1.0//EN
CALSCALE:GREGORIAN
METHOD:PUBLISH
X-WR-CALNAME:Agenda Cofrade 365 Días
X-ORIGINAL-URL:https://cordobacapitalcofrade.com
X-WR-CALDESC:Eventos para Agenda Cofrade 365 Días
REFRESH-INTERVAL;VALUE=DURATION:PT1H
X-Robots-Tag:noindex
X-PUBLISHED-TTL:PT1H
BEGIN:VTIMEZONE
TZID:UTC
BEGIN:STANDARD
TZOFFSETFROM:+0000
TZOFFSETTO:+0000
TZNAME:UTC
DTSTART:20250101T000000
END:STANDARD
END:VTIMEZONE
BEGIN:VEVENT
DTSTART;TZID=UTC:20250308T103000
DTEND;TZID=UTC:20250309T190000
DTSTAMP:20260422T053812
CREATED:20250223T130135Z
LAST-MODIFIED:20250223T130135Z
UID:5281-1741429800-1741546800@cordobacapitalcofrade.com
SUMMARY:Besapiés de Nuestro Padre Jesús de los Afligidos
DESCRIPTION:Besapiés de Nuestro Padre Jesús de los Afligidos en horario de 10:30 a 14:00 horas y de 16:00 a 19:00 horas en la Parroquia de San Vicente Ferrer.
URL:https://cordobacapitalcofrade.com/agenda/besapies-de-nuestro-padre-jesus-de-los-afligidos-2/
LOCATION:Parroquia de San Vicente Ferrer (Cañero)\, C. Funcionario Lázaro Navajas\, 70\, 14014 Córdoba\, España\, Córdoba\, España
CATEGORIES:Cultos
ATTACH;FMTTYPE=image/jpeg:https://cordobacapitalcofrade.com/wp-content/uploads/2025/02/428624646_419882227215219_8786451271738102626_n.jpg
END:VEVENT
END:VCALENDAR