BEGIN:VCALENDAR
VERSION:2.0
PRODID:-//Agenda Cofrade 365 Días - ECPv6.3.7//NONSGML v1.0//EN
CALSCALE:GREGORIAN
METHOD:PUBLISH
X-WR-CALNAME:Agenda Cofrade 365 Días
X-ORIGINAL-URL:https://cordobacapitalcofrade.com
X-WR-CALDESC:Eventos para Agenda Cofrade 365 Días
REFRESH-INTERVAL;VALUE=DURATION:PT1H
X-Robots-Tag:noindex
X-PUBLISHED-TTL:PT1H
BEGIN:VTIMEZONE
TZID:UTC
BEGIN:STANDARD
TZOFFSETFROM:+0000
TZOFFSETTO:+0000
TZNAME:UTC
DTSTART:20250101T000000
END:STANDARD
END:VTIMEZONE
BEGIN:VEVENT
DTSTART;TZID=UTC:20250314T210000
DTEND;TZID=UTC:20250314T223000
DTSTAMP:20260421T150933
CREATED:20250310T174825Z
LAST-MODIFIED:20250310T174825Z
UID:5524-1741986000-1741991400@cordobacapitalcofrade.com
SUMMARY:Vía Crucis Parroquial con el Crucificado de la Parroquia de San Vicente Ferrer
DESCRIPTION:Vía Crucis Parroquial con el Crucificado de la Parroquia de San Vicente Ferrer con este recorrido: Salida (21:00 horas)\, Funcionario Lázaro Navajas\, Párroco Bartolomé Blanco \, Concilio de Nicea\, Federico Mayo\, Pintor Muñoz Lucena\, Joaquin Benjumea\, Fernando Camacho\, Las Pulidoras\, Funcionario Lázaro Navajas y Entrada. 
URL:https://cordobacapitalcofrade.com/agenda/via-crucis-parroquial-con-el-crucificado-de-la-parroquia-de-san-vicente-ferrer/
LOCATION:Parroquia de San Vicente Ferrer (Cañero)\, C. Funcionario Lázaro Navajas\, 70\, 14014 Córdoba\, España\, Córdoba\, España
CATEGORIES:Vía Crucis
ATTACH;FMTTYPE=image/jpeg:https://cordobacapitalcofrade.com/wp-content/uploads/2025/03/481979366_675416058328500_6244133307917134169_n.jpg
END:VEVENT
END:VCALENDAR