BEGIN:VCALENDAR
VERSION:2.0
PRODID:-//Agenda Cofrade 365 Días - ECPv6.3.7//NONSGML v1.0//EN
CALSCALE:GREGORIAN
METHOD:PUBLISH
X-WR-CALNAME:Agenda Cofrade 365 Días
X-ORIGINAL-URL:https://cordobacapitalcofrade.com
X-WR-CALDESC:Eventos para Agenda Cofrade 365 Días
REFRESH-INTERVAL;VALUE=DURATION:PT1H
X-Robots-Tag:noindex
X-PUBLISHED-TTL:PT1H
BEGIN:VTIMEZONE
TZID:UTC
BEGIN:STANDARD
TZOFFSETFROM:+0000
TZOFFSETTO:+0000
TZNAME:UTC
DTSTART:20230101T000000
END:STANDARD
END:VTIMEZONE
BEGIN:VEVENT
DTSTART;TZID=UTC:20231122T200000
DTEND;TZID=UTC:20231124T203000
DTSTAMP:20260425T140724
CREATED:20231119T133011Z
LAST-MODIFIED:20231119T133011Z
UID:470-1700683200-1700857800@cordobacapitalcofrade.com
SUMMARY:Solemne Triduo de Nuestro Padre Jesús de la Fe
DESCRIPTION:Solemne Triduo de Nuestro Padre Jesús de la Fe a las 20:00 horas en la Parroquia del Beato Álvaro de Córdoba.
URL:https://cordobacapitalcofrade.com/agenda/solemne-triduo-de-nuestro-padre-jesus-de-la-fe/
LOCATION:Parroquia del Beato Álvaro de Córdoba\, Av. Guerrita\, 23\, 14005 Córdoba\, Córdoba\, España
CATEGORIES:Cultos
ATTACH;FMTTYPE=image/jpeg:https://cordobacapitalcofrade.com/wp-content/uploads/2023/11/la-sagrada-cena-celebro-besamanos-a-nuestro-padre-jesus-de-la-fe-13.jpg
END:VEVENT
BEGIN:VEVENT
DTSTART;TZID=UTC:20231125T200000
DTEND;TZID=UTC:20231125T210000
DTSTAMP:20260425T140724
CREATED:20231119T133752Z
LAST-MODIFIED:20231119T133752Z
UID:477-1700942400-1700946000@cordobacapitalcofrade.com
SUMMARY:Función Solemne a Nuestro Padre Jesús de la Fe
DESCRIPTION:Función Solemne a Nuestro Padre Jesús de la Fe a las 20:00 horas en la Parroquia del Beato Álvaro de Córdoba.
URL:https://cordobacapitalcofrade.com/agenda/funcion-solemne-a-nuestro-padre-jesus-de-la-fe/
LOCATION:Parroquia del Beato Álvaro de Córdoba\, Av. Guerrita\, 23\, 14005 Córdoba\, Córdoba\, España
CATEGORIES:Cultos
ATTACH;FMTTYPE=image/jpeg:https://cordobacapitalcofrade.com/wp-content/uploads/2023/11/la-sagrada-cena-celebro-besamanos-a-nuestro-padre-jesus-de-la-fe-13.jpg
END:VEVENT
BEGIN:VEVENT
DTSTART;TZID=UTC:20231126T090000
DTEND;TZID=UTC:20231126T210000
DTSTAMP:20260425T140724
CREATED:20231119T134124Z
LAST-MODIFIED:20231119T134124Z
UID:487-1700989200-1701032400@cordobacapitalcofrade.com
SUMMARY:Solemne Besamanos de Nuestro Padre Jesús de la Fe
DESCRIPTION:Solemne Besamanos de Nuestro Padre Jesús de la Fe en horario de 09:00 a 13:00 y de 18:00 a 21:00 horas en la Parroquia del Beato Álvaro de Córdoba.
URL:https://cordobacapitalcofrade.com/agenda/solemne-besamanos-de-nuestro-padre-jesus-de-la-fe/
LOCATION:Parroquia del Beato Álvaro de Córdoba\, Av. Guerrita\, 23\, 14005 Córdoba\, Córdoba\, España
CATEGORIES:Cultos
ATTACH;FMTTYPE=image/jpeg:https://cordobacapitalcofrade.com/wp-content/uploads/2023/11/la-sagrada-cena-celebro-besamanos-a-nuestro-padre-jesus-de-la-fe-13.jpg
END:VEVENT
END:VCALENDAR