BEGIN:VCALENDAR
VERSION:2.0
PRODID:-//Agenda Cofrade 365 Días - ECPv6.3.7//NONSGML v1.0//EN
CALSCALE:GREGORIAN
METHOD:PUBLISH
X-WR-CALNAME:Agenda Cofrade 365 Días
X-ORIGINAL-URL:https://cordobacapitalcofrade.com
X-WR-CALDESC:Eventos para Agenda Cofrade 365 Días
REFRESH-INTERVAL;VALUE=DURATION:PT1H
X-Robots-Tag:noindex
X-PUBLISHED-TTL:PT1H
BEGIN:VTIMEZONE
TZID:UTC
BEGIN:STANDARD
TZOFFSETFROM:+0000
TZOFFSETTO:+0000
TZNAME:UTC
DTSTART:20240101T000000
END:STANDARD
END:VTIMEZONE
BEGIN:VEVENT
DTSTART;TZID=UTC:20240204T100000
DTEND;TZID=UTC:20240204T133000
DTSTAMP:20260424T203923
CREATED:20240119T172055Z
LAST-MODIFIED:20240119T172055Z
UID:1818-1707040800-1707053400@cordobacapitalcofrade.com
SUMMARY:1er Ensayo de costaleros de Nuestro Padre Jesús de la Fe y María Santísima de la Esperanza del Valle
DESCRIPTION:1er Ensayo de costaleros de Nuestro Padre Jesús de la Fe y María Santísima de la Esperanza del Valle a las 10:00 horas desde la Casa de Hdad. sita en el Pasaje Francisco González Panchón\, 3.
URL:https://cordobacapitalcofrade.com/agenda/1er-ensayo-de-costaleros-de-nuestro-padre-jesus-de-la-fe-y-maria-santisima-de-la-esperanza-del-valle/
LOCATION:Casa de Hermandad de la Sagrada Cena\, Francisco González Panchón\, 3\,\, Córdoba\, España
CATEGORIES:Ensayos Costaleros
ATTACH;FMTTYPE=image/jpeg:https://cordobacapitalcofrade.com/wp-content/uploads/2024/01/Traslado-Ida-Cena-Corpus-2023-0087-min-1-scaled.jpg
END:VEVENT
BEGIN:VEVENT
DTSTART;TZID=UTC:20240215T200000
DTEND;TZID=UTC:20240217T203000
DTSTAMP:20260424T203923
CREATED:20240212T180122Z
LAST-MODIFIED:20240212T180122Z
UID:2207-1708027200-1708201800@cordobacapitalcofrade.com
SUMMARY:Solemne Triduo en honor del Beato Álvaro de Córdoba
DESCRIPTION:Solemne Triduo en honor del Beato Álvaro de Córdoba a las 20:00 horas en la Parroquia del Beato Álvaro de Córdoba.
URL:https://cordobacapitalcofrade.com/agenda/solemne-triduo-en-honor-del-beato-alvaro-de-cordoba/
LOCATION:Parroquia Beato Álvaro de Córdoba\, Avenida Guerrita\, 23\, Córdoba\, Córdoba\, 14005\, España
CATEGORIES:Cultos
ATTACH;FMTTYPE=image/jpeg:https://cordobacapitalcofrade.com/wp-content/uploads/2024/02/IMG_7423.jpg
END:VEVENT
BEGIN:VEVENT
DTSTART;TZID=UTC:20240218T120000
DTEND;TZID=UTC:20240218T130000
DTSTAMP:20260424T203923
CREATED:20240212T183613Z
LAST-MODIFIED:20240212T183613Z
UID:2249-1708257600-1708261200@cordobacapitalcofrade.com
SUMMARY:Función Solemne al Beato Álvaro de Córdoba
DESCRIPTION:Función Solemne al Beato Álvaro de Córdoba a las 12:00 horas en la Parroquia del Beato Álvaro de Córdoba.
URL:https://cordobacapitalcofrade.com/agenda/funcion-solemne-al-beato-alvaro-de-cordoba/
LOCATION:Parroquia del Beato Álvaro de Córdoba\, Av. Guerrita\, 23\, 14005 Córdoba\, Córdoba\, España
CATEGORIES:Cultos
ATTACH;FMTTYPE=image/jpeg:https://cordobacapitalcofrade.com/wp-content/uploads/2024/02/IMG_7423.jpg
END:VEVENT
BEGIN:VEVENT
DTSTART;TZID=UTC:20240218T190000
DTEND;TZID=UTC:20240218T193000
DTSTAMP:20260424T203923
CREATED:20240214T154451Z
LAST-MODIFIED:20240214T154451Z
UID:2281-1708282800-1708284600@cordobacapitalcofrade.com
SUMMARY:Presentación de la gloria del techo de palio de María Santísima de la Esperanza del Valle
DESCRIPTION:Presentación de la gloria del techo de palio de María Santísima de la Esperanza del Valle obra de los Talleres de Jesús Rosado con diseño de D. Julio Ferreira\, a las 19:00 horas en la Parroquia del Beato Álvaro de Córdoba.
URL:https://cordobacapitalcofrade.com/agenda/presentacion-de-la-gloria-del-techo-de-palio-de-maria-santisima-de-la-esperanza-del-valle/
LOCATION:Parroquia del Beato Álvaro de Córdoba\, Av. Guerrita\, 23\, 14005 Córdoba\, Córdoba\, España
CATEGORIES:Presentación
ATTACH;FMTTYPE=image/jpeg:https://cordobacapitalcofrade.com/wp-content/uploads/2024/02/428346798_762220109272434_1798087314860886469_n.jpg
END:VEVENT
BEGIN:VEVENT
DTSTART;TZID=UTC:20240225T100000
DTEND;TZID=UTC:20240225T133000
DTSTAMP:20260424T203923
CREATED:20240119T172248Z
LAST-MODIFIED:20240119T172248Z
UID:1822-1708855200-1708867800@cordobacapitalcofrade.com
SUMMARY:2º Ensayo de costaleros de Nuestro Padre Jesús de la Fe y María Santísima de la Esperanza del Valle
DESCRIPTION:2º Ensayo de costaleros de Nuestro Padre Jesús de la Fe y María Santísima de la Esperanza del Valle a las 10:00 horas desde la Casa de Hdad. sita en el Pasaje Francisco González Panchón\, 3.
URL:https://cordobacapitalcofrade.com/agenda/2o-ensayo-de-costaleros-de-nuestro-padre-jesus-de-la-fe-y-maria-santisima-de-la-esperanza-del-valle/
LOCATION:Casa de Hermandad de la Sagrada Cena\, Francisco González Panchón\, 3\,\, Córdoba\, España
CATEGORIES:Ensayos Costaleros
ATTACH;FMTTYPE=image/jpeg:https://cordobacapitalcofrade.com/wp-content/uploads/2024/01/z-32.jpg
END:VEVENT
END:VCALENDAR