BEGIN:VCALENDAR
VERSION:2.0
PRODID:-//Agenda Cofrade 365 Días - ECPv6.3.7//NONSGML v1.0//EN
CALSCALE:GREGORIAN
METHOD:PUBLISH
X-WR-CALNAME:Agenda Cofrade 365 Días
X-ORIGINAL-URL:https://cordobacapitalcofrade.com
X-WR-CALDESC:Eventos para Agenda Cofrade 365 Días
REFRESH-INTERVAL;VALUE=DURATION:PT1H
X-Robots-Tag:noindex
X-PUBLISHED-TTL:PT1H
BEGIN:VTIMEZONE
TZID:UTC
BEGIN:STANDARD
TZOFFSETFROM:+0000
TZOFFSETTO:+0000
TZNAME:UTC
DTSTART:20240101T000000
END:STANDARD
END:VTIMEZONE
BEGIN:VEVENT
DTSTART;TZID=UTC:20240310T100000
DTEND;TZID=UTC:20240310T130000
DTSTAMP:20260424T124809
CREATED:20240119T172454Z
LAST-MODIFIED:20240119T172454Z
UID:1825-1710064800-1710075600@cordobacapitalcofrade.com
SUMMARY:3er y último Ensayo de costaleros de Nuestro Padre Jesús de la Fe
DESCRIPTION:3er y último Ensayo de costaleros de Nuestro Padre Jesús de la Fe a las 10:00 horas desde la Casa de Hdad. sita en el Pasaje Francisco González Panchón\, 3.
URL:https://cordobacapitalcofrade.com/agenda/3er-y-ultimo-ensayo-de-costaleros-de-nuestro-padre-jesus-de-la-fe/
LOCATION:Casa de Hermandad de la Sagrada Cena\, Francisco González Panchón\, 3\,\, Córdoba\, España
CATEGORIES:Ensayos Costaleros
ATTACH;FMTTYPE=image/jpeg:https://cordobacapitalcofrade.com/wp-content/uploads/2024/01/Traslado-Ida-Cena-Corpus-2023-0087-min-1-scaled.jpg
END:VEVENT
END:VCALENDAR