BEGIN:VCALENDAR
VERSION:2.0
PRODID:-//Agenda Cofrade 365 Días - ECPv6.3.7//NONSGML v1.0//EN
CALSCALE:GREGORIAN
METHOD:PUBLISH
X-ORIGINAL-URL:https://cordobacapitalcofrade.com
X-WR-CALDESC:Eventos para Agenda Cofrade 365 Días
REFRESH-INTERVAL;VALUE=DURATION:PT1H
X-Robots-Tag:noindex
X-PUBLISHED-TTL:PT1H
BEGIN:VTIMEZONE
TZID:UTC
BEGIN:STANDARD
TZOFFSETFROM:+0000
TZOFFSETTO:+0000
TZNAME:UTC
DTSTART:20240101T000000
END:STANDARD
END:VTIMEZONE
BEGIN:VEVENT
DTSTART;TZID=UTC:20240426T120000
DTEND;TZID=UTC:20240501T020000
DTSTAMP:20260425T003839
CREATED:20240417T132147Z
LAST-MODIFIED:20240417T132147Z
UID:2899-1714132800-1714528800@cordobacapitalcofrade.com
SUMMARY:Cruz de Mayo de la Hermandad de la Sagrada Cena
DESCRIPTION:Cruz de Mayo de la Hermandad de la Sagrada Cena en la C/ José Damaso Pepete tras la Parroquia del Beato Álvaro de Córdoba del 26 de abril hasta el 1 de mayo en horario de 12:00 a 02:00 horas. El día 1 será hasta las 16:30 horas.
URL:https://cordobacapitalcofrade.com/agenda/cruz-de-mayo-de-la-hermandad-de-la-sagrada-cena/
LOCATION:C/José Damaso Pepete\, C. José Dámaso "Pepete"\, 17\, Poniente Sur\, 14004 Córdoba\, Córdoba\, España
CATEGORIES:Cruces de Mayo
ATTACH;FMTTYPE=image/jpeg:https://cordobacapitalcofrade.com/wp-content/uploads/2024/04/cruz-fuente-potro-kZdG-1240x698@abc-kfYB-1240x698@abc.jpg
END:VEVENT
BEGIN:VEVENT
DTSTART;TZID=UTC:20240512T083000
DTEND;TZID=UTC:20240512T100000
DTSTAMP:20260425T003839
CREATED:20240507T125027Z
LAST-MODIFIED:20240507T125027Z
UID:3030-1715502600-1715508000@cordobacapitalcofrade.com
SUMMARY:Rosario de la Aurora de María Santísima de la Esperanza del Valle
DESCRIPTION:Rosario de la Aurora presidido por María Santísima de la Esperanza del Valle desde la Parroquia del Beato Álvaro de Córdoba con este recorrido: Salida (08:30 horas)\, Avenida de Guerrita\, Escritor Conde Zamora\, Escritora Ángela López de Ayala\, Escritora Rosario Acuña\, Escritora Concha Espina\, Escritora María Teresa de León\, Emilia Pardo Bazán\, Avenida de Guerrita y Entrada. 
URL:https://cordobacapitalcofrade.com/agenda/rosario-de-la-aurora-de-maria-santisima-de-la-esperanza-del-valle/
LOCATION:Parroquia del Beato Álvaro de Córdoba\, Av. Guerrita\, 23\, 14005 Córdoba\, Córdoba\, España
CATEGORIES:Rosario
ATTACH;FMTTYPE=image/webp:https://cordobacapitalcofrade.com/wp-content/uploads/2024/05/1550644867_Esperanza-Valle-Rosario-15.webp
END:VEVENT
END:VCALENDAR