BEGIN:VCALENDAR
VERSION:2.0
PRODID:-//Agenda Cofrade 365 Días - ECPv6.3.7//NONSGML v1.0//EN
CALSCALE:GREGORIAN
METHOD:PUBLISH
X-ORIGINAL-URL:https://cordobacapitalcofrade.com
X-WR-CALDESC:Eventos para Agenda Cofrade 365 Días
REFRESH-INTERVAL;VALUE=DURATION:PT1H
X-Robots-Tag:noindex
X-PUBLISHED-TTL:PT1H
BEGIN:VTIMEZONE
TZID:UTC
BEGIN:STANDARD
TZOFFSETFROM:+0000
TZOFFSETTO:+0000
TZNAME:UTC
DTSTART:20230101T000000
END:STANDARD
END:VTIMEZONE
BEGIN:VEVENT
DTSTART;TZID=UTC:20231217T090000
DTEND;TZID=UTC:20231217T210000
DTSTAMP:20260425T140833
CREATED:20231210T134111Z
LAST-MODIFIED:20231210T134111Z
UID:897-1702803600-1702846800@cordobacapitalcofrade.com
SUMMARY:Besamanos de María Santísima de la Esperanza del Valle
DESCRIPTION:Besamanos de María Santísima de la Esperanza del Valle en horario de 09:00 a 13:00 horas y de 18:00 a 21:00 horas en la Parroquia del Beato Álvaro de Córdoba.
URL:https://cordobacapitalcofrade.com/agenda/besamanos-de-maria-santisima-de-la-esperanza-del-valle/
LOCATION:Parroquia del Beato Álvaro de Córdoba\, Av. Guerrita\, 23\, 14005 Córdoba\, Córdoba\, España
CATEGORIES:Cultos
ATTACH;FMTTYPE=image/jpeg:https://cordobacapitalcofrade.com/wp-content/uploads/2023/12/Veneracion-Esperanza-del-Valle-0029-min-scaled.jpg
END:VEVENT
END:VCALENDAR