BEGIN:VCALENDAR
VERSION:2.0
PRODID:-//Agenda Cofrade 365 Días - ECPv6.3.7//NONSGML v1.0//EN
CALSCALE:GREGORIAN
METHOD:PUBLISH
X-ORIGINAL-URL:https://cordobacapitalcofrade.com
X-WR-CALDESC:Eventos para Agenda Cofrade 365 Días
REFRESH-INTERVAL;VALUE=DURATION:PT1H
X-Robots-Tag:noindex
X-PUBLISHED-TTL:PT1H
BEGIN:VTIMEZONE
TZID:UTC
BEGIN:STANDARD
TZOFFSETFROM:+0000
TZOFFSETTO:+0000
TZNAME:UTC
DTSTART:20240101T000000
END:STANDARD
END:VTIMEZONE
BEGIN:VEVENT
DTSTART;TZID=UTC:20240616T110000
DTEND;TZID=UTC:20240616T133000
DTSTAMP:20260424T205250
CREATED:20240614T130117Z
LAST-MODIFIED:20240614T130117Z
UID:3125-1718535600-1718544600@cordobacapitalcofrade.com
SUMMARY:Procesión de su Divina Majestad y la Inmaculada Concepción de la Hermandad de la Sagrada Cena
DESCRIPTION:Procesión de su Divina Majestad y la Inmaculada Concepción con este recorrido: Salida (11:00 horas)\, Avenida de Guerrita\, Manuel Fuentes Bocanegra\, Pasaje Manuel Calero «Calerito»\, Avenida de Lagartijo\, Avenida de Guerrita\, Manuel Fuentes Bocanegra\, Manuel Cano «el «Pireo\, José María Martorell\, Avenida de Guerrita y Entrada. Los sones musicales correrán a cargo de la Agrupación Musical «Sagrada Cena» de Córdoba.
URL:https://cordobacapitalcofrade.com/agenda/procesion-de-su-divina-majestad-y-la-inmaculada-concepcion-de-la-hermandad-de-la-sagrada-cena/
LOCATION:Parroquia del Beato Álvaro de Córdoba\, Av. Guerrita\, 23\, 14005 Córdoba\, Córdoba\, España
CATEGORIES:Procesión
ATTACH;FMTTYPE=image/jpeg:https://cordobacapitalcofrade.com/wp-content/uploads/2024/06/corpus.jpg
END:VEVENT
END:VCALENDAR