BEGIN:VCALENDAR
VERSION:2.0
PRODID:-//Agenda Cofrade 365 Días - ECPv6.3.7//NONSGML v1.0//EN
CALSCALE:GREGORIAN
METHOD:PUBLISH
X-ORIGINAL-URL:https://cordobacapitalcofrade.com
X-WR-CALDESC:Eventos para Agenda Cofrade 365 Días
REFRESH-INTERVAL;VALUE=DURATION:PT1H
X-Robots-Tag:noindex
X-PUBLISHED-TTL:PT1H
BEGIN:VTIMEZONE
TZID:UTC
BEGIN:STANDARD
TZOFFSETFROM:+0000
TZOFFSETTO:+0000
TZNAME:UTC
DTSTART:20250101T000000
END:STANDARD
END:VTIMEZONE
BEGIN:VEVENT
DTSTART;TZID=UTC:20250307T210000
DTEND;TZID=UTC:20250307T223000
DTSTAMP:20260424T021410
CREATED:20250303T173139Z
LAST-MODIFIED:20250303T173139Z
UID:5395-1741381200-1741386600@cordobacapitalcofrade.com
SUMMARY:Vía Crucis del Santísimo Cristo de la Sangre
DESCRIPTION:Vía Crucis del Santísimo Cristo de la Sangre a las 21:00 horas desde la Parroquia de San Isidro Labrador.
URL:https://cordobacapitalcofrade.com/agenda/via-crucis-del-santisimo-cristo-de-la-sangre/
LOCATION:Parroquia de San Isidro Labrador\, Avenida Principal\, 14193 Córdoba\, Córdoba\, España
CATEGORIES:Vía Crucis
ATTACH;FMTTYPE=image/jpeg:https://cordobacapitalcofrade.com/wp-content/uploads/2025/03/53e7430d-516b-498b-8c1b-25d22a218bf4_source-aspect-ratio_default_0.jpg
END:VEVENT
END:VCALENDAR