BEGIN:VCALENDAR
VERSION:2.0
PRODID:-//Agenda Cofrade 365 Días - ECPv6.3.7//NONSGML v1.0//EN
CALSCALE:GREGORIAN
METHOD:PUBLISH
X-WR-CALNAME:Agenda Cofrade 365 Días
X-ORIGINAL-URL:https://cordobacapitalcofrade.com
X-WR-CALDESC:Eventos para Agenda Cofrade 365 Días
REFRESH-INTERVAL;VALUE=DURATION:PT1H
X-Robots-Tag:noindex
X-PUBLISHED-TTL:PT1H
BEGIN:VTIMEZONE
TZID:UTC
BEGIN:STANDARD
TZOFFSETFROM:+0000
TZOFFSETTO:+0000
TZNAME:UTC
DTSTART:20250101T000000
END:STANDARD
END:VTIMEZONE
BEGIN:VEVENT
DTSTART;TZID=UTC:20250311T203000
DTEND;TZID=UTC:20250315T211500
DTSTAMP:20260423T191013
CREATED:20250310T172317Z
LAST-MODIFIED:20250310T172317Z
UID:5484-1741725000-1742073300@cordobacapitalcofrade.com
SUMMARY:Solemne Quinario de Nuestro Padre Jesús Nazareno de la Compasión
DESCRIPTION:Solemne Quinario de Nuestro Padre Jesús Nazareno de la Compasión\, a las 20:30 horas en la Parroquia de San Isidro Labrador.
URL:https://cordobacapitalcofrade.com/agenda/solemne-quinario-de-nuestro-padre-jesus-nazareno-de-la-compasion/
LOCATION:Parroquia de San Isidro Labrador\, Avenida Principal\, 14193 Córdoba\, Córdoba\, España
CATEGORIES:Cultos
ATTACH;FMTTYPE=image/jpeg:https://cordobacapitalcofrade.com/wp-content/uploads/2025/03/422698282_2074789622890751_5162394559393470305_n.jpg
END:VEVENT
END:VCALENDAR