BEGIN:VCALENDAR
VERSION:2.0
PRODID:-//Agenda Cofrade 365 Días - ECPv6.3.7//NONSGML v1.0//EN
CALSCALE:GREGORIAN
METHOD:PUBLISH
X-ORIGINAL-URL:https://cordobacapitalcofrade.com
X-WR-CALDESC:Eventos para Agenda Cofrade 365 Días
REFRESH-INTERVAL;VALUE=DURATION:PT1H
X-Robots-Tag:noindex
X-PUBLISHED-TTL:PT1H
BEGIN:VTIMEZONE
TZID:UTC
BEGIN:STANDARD
TZOFFSETFROM:+0000
TZOFFSETTO:+0000
TZNAME:UTC
DTSTART:20240101T000000
END:STANDARD
END:VTIMEZONE
BEGIN:VEVENT
DTSTART;TZID=UTC:20241205T201500
DTEND;TZID=UTC:20241207T211500
DTSTAMP:20260425T144535
CREATED:20241125T144053Z
LAST-MODIFIED:20241125T144053Z
UID:4230-1733429700-1733606100@cordobacapitalcofrade.com
SUMMARY:Solemne Triduo en honor de Nuestra Señora Reina de los Ángeles
DESCRIPTION:Solemne Triduo en honor de Nuestra Señora Reina de los Ángeles\, a las 20:15 horas en la Iglesia Conventual del Santo Ángel (Capuchinos).
URL:https://cordobacapitalcofrade.com/agenda/solemne-triduo-en-honor-de-nuestra-senora-reina-de-los-angeles/
LOCATION:Iglesia Conventual del Santo Ángel (Capuchinos)\, Pl. de Capuchinos\, 5\, Córdoba\, España
CATEGORIES:Cultos
ATTACH;FMTTYPE=image/jpeg:https://cordobacapitalcofrade.com/wp-content/uploads/2024/11/Besamanos-Reina-de-los-Angeles-0378-min-scaled.jpg
END:VEVENT
BEGIN:VEVENT
DTSTART;VALUE=DATE:20241208
DTEND;VALUE=DATE:20241209
DTSTAMP:20260425T144535
CREATED:20241125T144439Z
LAST-MODIFIED:20241125T144439Z
UID:4235-1733616000-1733702399@cordobacapitalcofrade.com
SUMMARY:Besamanos de Nuestra Señora Reina de los Ángeles
DESCRIPTION:Besamanos de Nuestra Señora Reina de los Ángeles durante el día en horario de Misas en la Iglesia Conventual del Santo Ángel (Capuchinos).
URL:https://cordobacapitalcofrade.com/agenda/besamanos-de-nuestra-senora-reina-de-los-angeles/
LOCATION:Iglesia Conventual del Santo Ángel (Capuchinos)\, Pl. de Capuchinos\, 5\, Córdoba\, España
CATEGORIES:Cultos
ATTACH;FMTTYPE=image/jpeg:https://cordobacapitalcofrade.com/wp-content/uploads/2024/11/Besamanos-Reina-de-los-Angeles-0378-min-scaled.jpg
END:VEVENT
BEGIN:VEVENT
DTSTART;TZID=UTC:20241208T123000
DTEND;TZID=UTC:20241208T133000
DTSTAMP:20260425T144535
CREATED:20241125T144307Z
LAST-MODIFIED:20241125T144307Z
UID:4233-1733661000-1733664600@cordobacapitalcofrade.com
SUMMARY:Función Solemne de Nuestra Señora Reina de los Ángeles y XLVIII Aniversario de la Hermandad
DESCRIPTION:Función Solemne de Nuestra Señora Reina de los Ángeles y XLVIII Aniversario de la Hermandad\, a las 12:30 horas en la Iglesia Conventual del Santo Ángel (Capuchinos).
URL:https://cordobacapitalcofrade.com/agenda/funcion-solemne-de-nuestra-senora-reina-de-los-angeles-y-xlviii-aniversario-de-la-hermandad/
LOCATION:Iglesia Conventual del Santo Ángel (Capuchinos)\, Pl. de Capuchinos\, 5\, Córdoba\, España
CATEGORIES:Cultos
ATTACH;FMTTYPE=image/jpeg:https://cordobacapitalcofrade.com/wp-content/uploads/2024/11/Besamanos-Reina-de-los-Angeles-0378-min-scaled.jpg
END:VEVENT
BEGIN:VEVENT
DTSTART;TZID=UTC:20241227T200000
DTEND;TZID=UTC:20241227T203000
DTSTAMP:20260425T144535
CREATED:20241223T142852Z
LAST-MODIFIED:20241223T142852Z
UID:4709-1735329600-1735331400@cordobacapitalcofrade.com
SUMMARY:Santa Misa a San Juan Evangelista en la Hermandad de la Sangre
DESCRIPTION:Santa Misa a San Juan Evangelista a las 20:00 horas en la Iglesia Conventual del Santo Ángel (Capuchinos).
URL:https://cordobacapitalcofrade.com/agenda/santa-misa-a-san-juan-evangelista-en-la-hermandad-de-la-sangre/
LOCATION:Iglesia Conventual del Santo Ángel (Capuchinos)\, Pl. de Capuchinos\, 5\, Córdoba\, España
CATEGORIES:Cultos
ATTACH;FMTTYPE=image/jpeg:https://cordobacapitalcofrade.com/wp-content/uploads/2024/12/Besamanos-Reina-de-los-Angeles-0395-min-scaled.jpg
END:VEVENT
END:VCALENDAR