BEGIN:VCALENDAR
VERSION:2.0
PRODID:-//Agenda Cofrade 365 Días - ECPv6.3.7//NONSGML v1.0//EN
CALSCALE:GREGORIAN
METHOD:PUBLISH
X-WR-CALNAME:Agenda Cofrade 365 Días
X-ORIGINAL-URL:https://cordobacapitalcofrade.com
X-WR-CALDESC:Eventos para Agenda Cofrade 365 Días
REFRESH-INTERVAL;VALUE=DURATION:PT1H
X-Robots-Tag:noindex
X-PUBLISHED-TTL:PT1H
BEGIN:VTIMEZONE
TZID:UTC
BEGIN:STANDARD
TZOFFSETFROM:+0000
TZOFFSETTO:+0000
TZNAME:UTC
DTSTART:20250101T000000
END:STANDARD
END:VTIMEZONE
BEGIN:VEVENT
DTSTART;TZID=UTC:20250201T170000
DTEND;TZID=UTC:20250201T180000
DTSTAMP:20260423T043520
CREATED:20250127T164527Z
LAST-MODIFIED:20250127T164527Z
UID:5076-1738429200-1738432800@cordobacapitalcofrade.com
SUMMARY:Igualá de costaleros de Nuestro Padre Jesús de la Sangre
DESCRIPTION:Igualá de costaleros de Nuestro Padre Jesús de la Sangre\, a las 17:00 horas en la Casa de Hdad. sita en la C/ Carbonell y Morand.
URL:https://cordobacapitalcofrade.com/agenda/iguala-de-costaleros-de-nuestro-padre-jesus-de-la-sangre/
LOCATION:Casa Hermandad de la Sangre\, Calle Carbonell y Morand 16\, Cordoba\, Cordoba\, 14001\, España
CATEGORIES:Igualás de costaleros
ATTACH;FMTTYPE=image/png:https://cordobacapitalcofrade.com/wp-content/uploads/2025/01/Captura-de-pantalla-2025-01-27-174321.png
END:VEVENT
BEGIN:VEVENT
DTSTART;TZID=UTC:20250218T191500
DTEND;TZID=UTC:20250222T200000
DTSTAMP:20260423T043520
CREATED:20250206T130749Z
LAST-MODIFIED:20250206T130749Z
UID:5114-1739906100-1740254400@cordobacapitalcofrade.com
SUMMARY:Solemne Quinario en honor de Nuestro Padre Jesús de la Sangre
DESCRIPTION:Solemne Quinario en honor de Nuestro Padre Jesús de la Sangre\, a las 19:15 horas en la Iglesia Conventual del Santo Ángel (Capuchinos).
URL:https://cordobacapitalcofrade.com/agenda/solemne-quinario-en-honor-de-nuestro-padre-jesus-de-la-sangre/
LOCATION:Iglesia Conventual del Santo Ángel (Capuchinos)\, Pl. de Capuchinos\, 5\, Córdoba\, España
CATEGORIES:Cultos
ATTACH;FMTTYPE=image/jpeg:https://cordobacapitalcofrade.com/wp-content/uploads/2025/02/426278550_785114783652493_3694538436282106396_n.jpg
END:VEVENT
BEGIN:VEVENT
DTSTART;TZID=UTC:20250223T110000
DTEND;TZID=UTC:20250223T120000
DTSTAMP:20260423T043520
CREATED:20250206T131054Z
LAST-MODIFIED:20250206T131054Z
UID:5117-1740308400-1740312000@cordobacapitalcofrade.com
SUMMARY:Solemne Función Principal de Instituto de la Hermandad de la Sangre
DESCRIPTION:Solemne Función Principal de Instituto de la Hermandad\, a las 11:00 horas en la Iglesia Conventual del Santo Ángel (Capuchinos).
URL:https://cordobacapitalcofrade.com/agenda/solemne-funcion-principal-de-instituto-de-la-hermandad-de-la-sangre/
LOCATION:Iglesia Conventual del Santo Ángel (Capuchinos)\, Pl. de Capuchinos\, 5\, Córdoba\, España
CATEGORIES:Cultos
ATTACH;FMTTYPE=image/jpeg:https://cordobacapitalcofrade.com/wp-content/uploads/2025/02/426278550_785114783652493_3694538436282106396_n.jpg
END:VEVENT
END:VCALENDAR