BEGIN:VCALENDAR
VERSION:2.0
PRODID:-//Agenda Cofrade 365 Días - ECPv6.3.7//NONSGML v1.0//EN
CALSCALE:GREGORIAN
METHOD:PUBLISH
X-WR-CALNAME:Agenda Cofrade 365 Días
X-ORIGINAL-URL:https://cordobacapitalcofrade.com
X-WR-CALDESC:Eventos para Agenda Cofrade 365 Días
REFRESH-INTERVAL;VALUE=DURATION:PT1H
X-Robots-Tag:noindex
X-PUBLISHED-TTL:PT1H
BEGIN:VTIMEZONE
TZID:UTC
BEGIN:STANDARD
TZOFFSETFROM:+0000
TZOFFSETTO:+0000
TZNAME:UTC
DTSTART:20240101T000000
END:STANDARD
END:VTIMEZONE
BEGIN:VEVENT
DTSTART;TZID=UTC:20241227T200000
DTEND;TZID=UTC:20241227T203000
DTSTAMP:20260426T023747
CREATED:20241223T142852Z
LAST-MODIFIED:20241223T142852Z
UID:4709-1735329600-1735331400@cordobacapitalcofrade.com
SUMMARY:Santa Misa a San Juan Evangelista en la Hermandad de la Sangre
DESCRIPTION:Santa Misa a San Juan Evangelista a las 20:00 horas en la Iglesia Conventual del Santo Ángel (Capuchinos).
URL:https://cordobacapitalcofrade.com/agenda/santa-misa-a-san-juan-evangelista-en-la-hermandad-de-la-sangre/
LOCATION:Iglesia Conventual del Santo Ángel (Capuchinos)\, Pl. de Capuchinos\, 5\, Córdoba\, España
CATEGORIES:Cultos
ATTACH;FMTTYPE=image/jpeg:https://cordobacapitalcofrade.com/wp-content/uploads/2024/12/Besamanos-Reina-de-los-Angeles-0395-min-scaled.jpg
END:VEVENT
END:VCALENDAR