BEGIN:VCALENDAR
VERSION:2.0
PRODID:-//Agenda Cofrade 365 Días - ECPv6.3.7//NONSGML v1.0//EN
CALSCALE:GREGORIAN
METHOD:PUBLISH
X-ORIGINAL-URL:https://cordobacapitalcofrade.com
X-WR-CALDESC:Eventos para Agenda Cofrade 365 Días
REFRESH-INTERVAL;VALUE=DURATION:PT1H
X-Robots-Tag:noindex
X-PUBLISHED-TTL:PT1H
BEGIN:VTIMEZONE
TZID:UTC
BEGIN:STANDARD
TZOFFSETFROM:+0000
TZOFFSETTO:+0000
TZNAME:UTC
DTSTART:20230101T000000
END:STANDARD
END:VTIMEZONE
BEGIN:VEVENT
DTSTART;TZID=UTC:20231204T203000
DTEND;TZID=UTC:20231206T213000
DTSTAMP:20260425T140513
CREATED:20231127T155347Z
LAST-MODIFIED:20231127T155347Z
UID:708-1701721800-1701898200@cordobacapitalcofrade.com
SUMMARY:Solemne Triduo de María Santísima de la Trinidad
DESCRIPTION:Solemne Triduo en honor de María Santísima de la Trinidad a las 20:30 horas en la Parroquia de San Juan y Todos los Santos (Trinidad).
URL:https://cordobacapitalcofrade.com/agenda/solemne-triduo-de-maria-santisima-de-la-trinidad/
LOCATION:Parroquia de San Juan y Todos los Santos (La Trinidad)\, Plaza de la Trinidad\, Córdoba\, Córdoba\, 14003\, España
CATEGORIES:Cultos
ATTACH;FMTTYPE=image/jpeg:https://cordobacapitalcofrade.com/wp-content/uploads/2023/11/47136a19-1555-43ea-80dc-a5945f08baf5_source-aspect-ratio_default_0.jpg
END:VEVENT
BEGIN:VEVENT
DTSTART;TZID=UTC:20231207T173000
DTEND;TZID=UTC:20231207T203000
DTSTAMP:20260425T140513
CREATED:20231127T155751Z
LAST-MODIFIED:20231127T155751Z
UID:712-1701970200-1701981000@cordobacapitalcofrade.com
SUMMARY:Besamanos de María Santísima de la Trinidad
DESCRIPTION:Primer día del Solemne Besamanos de María Santísima de la Trinidad en horario de 17:30 a 20:30 en la Parroquia de San Juan y Todos los Santos (Trinidad).
URL:https://cordobacapitalcofrade.com/agenda/besamanos-de-maria-santisima-de-la-trinidad/
LOCATION:Parroquia de San Juan y Todos los Santos (La Trinidad)\, Plaza de la Trinidad\, Córdoba\, Córdoba\, 14003\, España
CATEGORIES:Cultos
ATTACH;FMTTYPE=image/jpeg:https://cordobacapitalcofrade.com/wp-content/uploads/2023/11/Besamanos-Trinidad-0258-min-scaled.jpg
END:VEVENT
BEGIN:VEVENT
DTSTART;TZID=UTC:20231207T193000
DTEND;TZID=UTC:20231207T203000
DTSTAMP:20260425T140513
CREATED:20231127T155933Z
LAST-MODIFIED:20231127T155933Z
UID:715-1701977400-1701981000@cordobacapitalcofrade.com
SUMMARY:Función Principal de María Santísima de la Trinidad
DESCRIPTION:Función Principal de María Santísima de la Trinidad a las 19:30 horas en la Parroquia de San Juan y Todos los Santos (Trinidad).
URL:https://cordobacapitalcofrade.com/agenda/funcion-principal-de-maria-santisima-de-la-trinidad/
LOCATION:Parroquia de San Juan y Todos los Santos (La Trinidad)\, Plaza de la Trinidad\, Córdoba\, Córdoba\, 14003\, España
CATEGORIES:Cultos
ATTACH;FMTTYPE=image/jpeg:https://cordobacapitalcofrade.com/wp-content/uploads/2023/11/47136a19-1555-43ea-80dc-a5945f08baf5_source-aspect-ratio_default_0.jpg
END:VEVENT
BEGIN:VEVENT
DTSTART;TZID=UTC:20231208T090000
DTEND;TZID=UTC:20231208T203000
DTSTAMP:20260425T140513
CREATED:20231127T160119Z
LAST-MODIFIED:20231127T160119Z
UID:717-1702026000-1702067400@cordobacapitalcofrade.com
SUMMARY:Besamanos de María Santísima de la Trinidad
DESCRIPTION:Segundo día del Solemne Besamanos de María Santísima de la Trinidad en horario de 09:00 a 14:00 horas y de 17:00 a 20:30 en la Parroquia de San Juan y Todos los Santos (Trinidad).
URL:https://cordobacapitalcofrade.com/agenda/besamanos-de-maria-santisima-de-la-trinidad-2/
LOCATION:Parroquia de San Juan y Todos los Santos (La Trinidad)\, Plaza de la Trinidad\, Córdoba\, Córdoba\, 14003\, España
CATEGORIES:Cultos
ATTACH;FMTTYPE=image/jpeg:https://cordobacapitalcofrade.com/wp-content/uploads/2023/11/Besamanos-Trinidad-0258-min-scaled.jpg
END:VEVENT
END:VCALENDAR