BEGIN:VCALENDAR
VERSION:2.0
PRODID:-//Agenda Cofrade 365 Días - ECPv6.3.7//NONSGML v1.0//EN
CALSCALE:GREGORIAN
METHOD:PUBLISH
X-WR-CALNAME:Agenda Cofrade 365 Días
X-ORIGINAL-URL:https://cordobacapitalcofrade.com
X-WR-CALDESC:Eventos para Agenda Cofrade 365 Días
REFRESH-INTERVAL;VALUE=DURATION:PT1H
X-Robots-Tag:noindex
X-PUBLISHED-TTL:PT1H
BEGIN:VTIMEZONE
TZID:UTC
BEGIN:STANDARD
TZOFFSETFROM:+0000
TZOFFSETTO:+0000
TZNAME:UTC
DTSTART:20250101T000000
END:STANDARD
END:VTIMEZONE
BEGIN:VEVENT
DTSTART;TZID=UTC:20250117T210000
DTEND;TZID=UTC:20250117T220000
DTSTAMP:20260423T021020
CREATED:20241216T142222Z
LAST-MODIFIED:20241216T142222Z
UID:4629-1737147600-1737151200@cordobacapitalcofrade.com
SUMMARY:Igualá de costaleros de María Santísima de la Trinidad
DESCRIPTION:Igualá de costaleros de María Santísima de la Trinidad\, a las 21:00 horas en el Centro Parroquial «Carmen Márquez Criado» en la C/ Tejón y Marín\, 9.
URL:https://cordobacapitalcofrade.com/agenda/iguala-de-costaleros-de-maria-santisima-de-la-trinidad-2/
LOCATION:Salones Parroquiales de la Trinidad\, C. Sánchez de Feria\, 13\, Córdoba\, España
CATEGORIES:Igualás de costaleros
ATTACH;FMTTYPE=image/jpeg:https://cordobacapitalcofrade.com/wp-content/uploads/2024/12/470203443_988480786646826_5685146369700587799_n.jpg
END:VEVENT
BEGIN:VEVENT
DTSTART;TZID=UTC:20250118T120000
DTEND;TZID=UTC:20250118T130000
DTSTAMP:20260423T021020
CREATED:20241216T141406Z
LAST-MODIFIED:20241216T141406Z
UID:4619-1737201600-1737205200@cordobacapitalcofrade.com
SUMMARY:Igualá de costaleros de Nuestro Padre Jesús Nazareno de la Santa Faz
DESCRIPTION:Igualá de costaleros de Nuestro Padre Jesús Nazareno de la Santa Faz\, a las 12:00 horas en el Centro Parroquial «Carmen Márquez Criado» en la C/ Tejón y Marín\, 9.
URL:https://cordobacapitalcofrade.com/agenda/iguala-de-costaleros-de-nuestro-padre-jesus-nazareno-de-la-santa-faz-2/
LOCATION:Salones Parroquiales de la Trinidad\, C. Sánchez de Feria\, 13\, Córdoba\, España
CATEGORIES:Igualás de costaleros
ATTACH;FMTTYPE=image/jpeg:https://cordobacapitalcofrade.com/wp-content/uploads/2024/12/470203884_988478816647023_8275621287790669892_n.jpg
END:VEVENT
END:VCALENDAR