BEGIN:VCALENDAR
VERSION:2.0
PRODID:-//Agenda Cofrade 365 Días - ECPv6.3.7//NONSGML v1.0//EN
CALSCALE:GREGORIAN
METHOD:PUBLISH
X-WR-CALNAME:Agenda Cofrade 365 Días
X-ORIGINAL-URL:https://cordobacapitalcofrade.com
X-WR-CALDESC:Eventos para Agenda Cofrade 365 Días
REFRESH-INTERVAL;VALUE=DURATION:PT1H
X-Robots-Tag:noindex
X-PUBLISHED-TTL:PT1H
BEGIN:VTIMEZONE
TZID:UTC
BEGIN:STANDARD
TZOFFSETFROM:+0000
TZOFFSETTO:+0000
TZNAME:UTC
DTSTART:20250101T000000
END:STANDARD
END:VTIMEZONE
BEGIN:VEVENT
DTSTART;TZID=UTC:20250511T080000
DTEND;TZID=UTC:20250511T093000
DTSTAMP:20260420T063011
CREATED:20250505T185954Z
LAST-MODIFIED:20250505T185954Z
UID:6051-1746950400-1746955800@cordobacapitalcofrade.com
SUMMARY:Rosario de la Aurora de María Santísima de la Trinidad
DESCRIPTION:Rosario de la Aurora de María Santísima de la Trinidad desde la Parroquia de San Juan y Todos los Santos Trinidad con este recorrido: Salida (08:00 horas\, Plaza de la Trinidad\, Horno de la Trinidad\, Valladares\, Plaza de Pineda\, Leopoldo de Austria\, Plaza de San Juan\, General Argote\, Plaza Ramón y Cajal\, Tesoro\, Plaza de la Trinidad y Entrada.
URL:https://cordobacapitalcofrade.com/agenda/rosario-de-la-aurora-de-maria-santisima-de-la-trinidad/
LOCATION:Parroquia de la Trinidad\, Plaza de la Trinidad\, Córdoba\, España
CATEGORIES:Rosario
END:VEVENT
END:VCALENDAR