BEGIN:VCALENDAR
VERSION:2.0
PRODID:-//Agenda Cofrade 365 Días - ECPv6.3.7//NONSGML v1.0//EN
CALSCALE:GREGORIAN
METHOD:PUBLISH
X-WR-CALNAME:Agenda Cofrade 365 Días
X-ORIGINAL-URL:https://cordobacapitalcofrade.com
X-WR-CALDESC:Eventos para Agenda Cofrade 365 Días
REFRESH-INTERVAL;VALUE=DURATION:PT1H
X-Robots-Tag:noindex
X-PUBLISHED-TTL:PT1H
BEGIN:VTIMEZONE
TZID:UTC
BEGIN:STANDARD
TZOFFSETFROM:+0000
TZOFFSETTO:+0000
TZNAME:UTC
DTSTART:20230101T000000
END:STANDARD
END:VTIMEZONE
BEGIN:VEVENT
DTSTART;TZID=UTC:20231204T203000
DTEND;TZID=UTC:20231206T213000
DTSTAMP:20260425T141606
CREATED:20231127T155347Z
LAST-MODIFIED:20231127T155347Z
UID:708-1701721800-1701898200@cordobacapitalcofrade.com
SUMMARY:Solemne Triduo de María Santísima de la Trinidad
DESCRIPTION:Solemne Triduo en honor de María Santísima de la Trinidad a las 20:30 horas en la Parroquia de San Juan y Todos los Santos (Trinidad).
URL:https://cordobacapitalcofrade.com/agenda/solemne-triduo-de-maria-santisima-de-la-trinidad/
LOCATION:Parroquia de San Juan y Todos los Santos (La Trinidad)\, Plaza de la Trinidad\, Córdoba\, Córdoba\, 14003\, España
CATEGORIES:Cultos
ATTACH;FMTTYPE=image/jpeg:https://cordobacapitalcofrade.com/wp-content/uploads/2023/11/47136a19-1555-43ea-80dc-a5945f08baf5_source-aspect-ratio_default_0.jpg
END:VEVENT
END:VCALENDAR