BEGIN:VCALENDAR
VERSION:2.0
PRODID:-//Agenda Cofrade 365 Días - ECPv6.3.7//NONSGML v1.0//EN
CALSCALE:GREGORIAN
METHOD:PUBLISH
X-WR-CALNAME:Agenda Cofrade 365 Días
X-ORIGINAL-URL:https://cordobacapitalcofrade.com
X-WR-CALDESC:Eventos para Agenda Cofrade 365 Días
REFRESH-INTERVAL;VALUE=DURATION:PT1H
X-Robots-Tag:noindex
X-PUBLISHED-TTL:PT1H
BEGIN:VTIMEZONE
TZID:UTC
BEGIN:STANDARD
TZOFFSETFROM:+0000
TZOFFSETTO:+0000
TZNAME:UTC
DTSTART:20240101T000000
END:STANDARD
END:VTIMEZONE
BEGIN:VEVENT
DTSTART;TZID=UTC:20240218T090000
DTEND;TZID=UTC:20240218T203000
DTSTAMP:20260425T140425
CREATED:20240205T161412Z
LAST-MODIFIED:20240205T161412Z
UID:2145-1708246800-1708288200@cordobacapitalcofrade.com
SUMMARY:2º día del Besapiés de Nuestro Padre Jesús Nazareno de la Santa Faz
DESCRIPTION:2º día del Besapiés de Nuestro Padre Jesús Nazareno de la Santa Faz en horario 09:00 a 14:00 horas y de 17:00 a 20:00 horas en la Parroquia de San Juan y Todos los Santos (Trinidad).
URL:https://cordobacapitalcofrade.com/agenda/2o-dia-del-besapies-de-nuestro-padre-jesus-nazareno-de-la-santa-faz/
LOCATION:Parroquia de la Trinidad\, Plaza de la Trinidad\, Córdoba\, España
CATEGORIES:Cultos
ATTACH;FMTTYPE=image/jpeg:https://cordobacapitalcofrade.com/wp-content/uploads/2024/02/IMG_7839.jpg
END:VEVENT
END:VCALENDAR