BEGIN:VCALENDAR
VERSION:2.0
PRODID:-//Agenda Cofrade 365 Días - ECPv6.3.7//NONSGML v1.0//EN
CALSCALE:GREGORIAN
METHOD:PUBLISH
X-WR-CALNAME:Agenda Cofrade 365 Días
X-ORIGINAL-URL:https://cordobacapitalcofrade.com
X-WR-CALDESC:Eventos para Agenda Cofrade 365 Días
REFRESH-INTERVAL;VALUE=DURATION:PT1H
X-Robots-Tag:noindex
X-PUBLISHED-TTL:PT1H
BEGIN:VTIMEZONE
TZID:UTC
BEGIN:STANDARD
TZOFFSETFROM:+0000
TZOFFSETTO:+0000
TZNAME:UTC
DTSTART:20250101T000000
END:STANDARD
END:VTIMEZONE
BEGIN:VEVENT
DTSTART;TZID=UTC:20250213T210000
DTEND;TZID=UTC:20250213T235900
DTSTAMP:20260423T050807
CREATED:20241216T142720Z
LAST-MODIFIED:20241216T142720Z
UID:4632-1739480400-1739491140@cordobacapitalcofrade.com
SUMMARY:1er Ensayo de costaleros de María Santísima de la Trinidad
DESCRIPTION:1er Ensayo de costaleros de María Santísima de la Trinidad\, a las 21:00 horas desde el local de ensayos en la C/ González López.
URL:https://cordobacapitalcofrade.com/agenda/1er-ensayo-de-costaleros-de-maria-santisima-de-la-trinidad-2/
LOCATION:Local de Ensayos Parroquia de la Trinidad\, C. González López\, 1\, Centro\, 14003 Córdoba\, Córdoba\, España
CATEGORIES:Igualás de costaleros
ATTACH;FMTTYPE=image/jpeg:https://cordobacapitalcofrade.com/wp-content/uploads/2024/12/Santa-Faz-2023-1236-min-scaled.jpg
END:VEVENT
END:VCALENDAR