BEGIN:VCALENDAR
VERSION:2.0
PRODID:-//Agenda Cofrade 365 Días - ECPv6.3.7//NONSGML v1.0//EN
CALSCALE:GREGORIAN
METHOD:PUBLISH
X-WR-CALNAME:Agenda Cofrade 365 Días
X-ORIGINAL-URL:https://cordobacapitalcofrade.com
X-WR-CALDESC:Eventos para Agenda Cofrade 365 Días
REFRESH-INTERVAL;VALUE=DURATION:PT1H
X-Robots-Tag:noindex
X-PUBLISHED-TTL:PT1H
BEGIN:VTIMEZONE
TZID:UTC
BEGIN:STANDARD
TZOFFSETFROM:+0000
TZOFFSETTO:+0000
TZNAME:UTC
DTSTART:20250101T000000
END:STANDARD
END:VTIMEZONE
BEGIN:VEVENT
DTSTART;TZID=UTC:20250327T210000
DTEND;TZID=UTC:20250327T235900
DTSTAMP:20260421T014915
CREATED:20241216T143038Z
LAST-MODIFIED:20241216T143038Z
UID:4637-1743109200-1743119940@cordobacapitalcofrade.com
SUMMARY:3er Ensayo de costaleros de María Santísima de la Trinidad
DESCRIPTION:3er Ensayo de costaleros de María Santísima de la Trinidad\, a las 21:00 horas desde el local de ensayos en la C/ González López.
URL:https://cordobacapitalcofrade.com/agenda/3er-ensayo-de-costaleros-de-maria-santisima-de-la-trinidad/
LOCATION:Local de Ensayos Parroquia de la Trinidad\, C. González López\, 1\, Centro\, 14003 Córdoba\, Córdoba\, España
CATEGORIES:Ensayos Costaleros
ATTACH;FMTTYPE=image/jpeg:https://cordobacapitalcofrade.com/wp-content/uploads/2024/12/Santa-Faz-2023-1236-min-scaled.jpg
END:VEVENT
END:VCALENDAR