BEGIN:VCALENDAR
VERSION:2.0
PRODID:-//Agenda Cofrade 365 Días - ECPv6.3.7//NONSGML v1.0//EN
CALSCALE:GREGORIAN
METHOD:PUBLISH
X-ORIGINAL-URL:https://cordobacapitalcofrade.com
X-WR-CALDESC:Eventos para Agenda Cofrade 365 Días
REFRESH-INTERVAL;VALUE=DURATION:PT1H
X-Robots-Tag:noindex
X-PUBLISHED-TTL:PT1H
BEGIN:VTIMEZONE
TZID:UTC
BEGIN:STANDARD
TZOFFSETFROM:+0000
TZOFFSETTO:+0000
TZNAME:UTC
DTSTART:20260101T000000
END:STANDARD
END:VTIMEZONE
BEGIN:VEVENT
DTSTART;TZID=UTC:20260222T123000
DTEND;TZID=UTC:20260222T123000
DTSTAMP:20260425T003812
CREATED:20260216T160354Z
LAST-MODIFIED:20260216T160354Z
UID:8759-1771763400-1771763400@cordobacapitalcofrade.com
SUMMARY:Fiesta de Regla de la Hermandad de la Soledad
DESCRIPTION:Fiesta de Regla de la Hermandad de la Soledad\, a las 12:30 horas en la Parroquia de Santa María de Guadalupe (Franciscanos). Intervendrá musicalmente el Coro María Santísima en su Soledad y la Escolanía San Francisco de Asís.
URL:https://cordobacapitalcofrade.com/agenda/fiesta-de-regla-de-la-hermandad-de-la-soledad-3/
LOCATION:Parroquia de Santa María de Guadalupe (Franciscanos)\, Av. del 28 de Febrero\, 3\, Levante\, 14007 Córdoba\, Córdoba\, España
CATEGORIES:Cultos
ATTACH;FMTTYPE=image/jpeg:https://cordobacapitalcofrade.com/wp-content/uploads/2026/02/Septenario-Soledad-0116-1-scaled.jpg
END:VEVENT
END:VCALENDAR