BEGIN:VCALENDAR
VERSION:2.0
PRODID:-//Agenda Cofrade 365 Días - ECPv6.3.7//NONSGML v1.0//EN
CALSCALE:GREGORIAN
METHOD:PUBLISH
X-ORIGINAL-URL:https://cordobacapitalcofrade.com
X-WR-CALDESC:Eventos para Agenda Cofrade 365 Días
REFRESH-INTERVAL;VALUE=DURATION:PT1H
X-Robots-Tag:noindex
X-PUBLISHED-TTL:PT1H
BEGIN:VTIMEZONE
TZID:UTC
BEGIN:STANDARD
TZOFFSETFROM:+0000
TZOFFSETTO:+0000
TZNAME:UTC
DTSTART:20240101T000000
END:STANDARD
END:VTIMEZONE
BEGIN:VEVENT
DTSTART;TZID=UTC:20240224T170000
DTEND;TZID=UTC:20240224T200000
DTSTAMP:20260425T004013
CREATED:20240103T161029Z
LAST-MODIFIED:20240103T161029Z
UID:1256-1708794000-1708804800@cordobacapitalcofrade.com
SUMMARY:2º Ensayo de costaleros de María Santísima del Dulce Nombre
DESCRIPTION:2º Ensayo de costaleros de María Santísima del Dulce Nombre a las 17:00 horas desde la Casa de Hermandad sita en la Calle Infante Don Juan Manuel nº2.
URL:https://cordobacapitalcofrade.com/agenda/2o-ensayo-de-costaleros-de-maria-santisima-del-dulce-nombre/
LOCATION:Casa de Hermandad Vera Cruz\, C. Infante Don Juan Manuel\, 7\, Sur\, 14009 Córdoba\, Córdoba\, España
CATEGORIES:Ensayos Costaleros
ATTACH;FMTTYPE=image/jpeg:https://cordobacapitalcofrade.com/wp-content/uploads/2024/01/vera-cruz-ssanta22-7.jpg
END:VEVENT
END:VCALENDAR