BEGIN:VCALENDAR
VERSION:2.0
PRODID:-//Agenda Cofrade 365 Días - ECPv6.3.7//NONSGML v1.0//EN
CALSCALE:GREGORIAN
METHOD:PUBLISH
X-WR-CALNAME:Agenda Cofrade 365 Días
X-ORIGINAL-URL:https://cordobacapitalcofrade.com
X-WR-CALDESC:Eventos para Agenda Cofrade 365 Días
REFRESH-INTERVAL;VALUE=DURATION:PT1H
X-Robots-Tag:noindex
X-PUBLISHED-TTL:PT1H
BEGIN:VTIMEZONE
TZID:UTC
BEGIN:STANDARD
TZOFFSETFROM:+0000
TZOFFSETTO:+0000
TZNAME:UTC
DTSTART:20240101T000000
END:STANDARD
END:VTIMEZONE
BEGIN:VEVENT
DTSTART;TZID=UTC:20240310T183000
DTEND;TZID=UTC:20240310T203000
DTSTAMP:20260424T161935
CREATED:20240216T162620Z
LAST-MODIFIED:20240216T162620Z
UID:2355-1710095400-1710102600@cordobacapitalcofrade.com
SUMMARY:Meditación entorno a Nuestro Señor de los Reyes y posterior Rezo del Santo Vía Crucis
DESCRIPTION:Meditación entorno a Nuestro Señor de los Reyes a cargo de D. Eloy Moreno Romero a las 18:30 horas en la Parroquia de San José y Espíritu Santo. \nTras la Meditación tendrá lugar el ejercicio del Piadoso Vía Crucis y posterior traslado a su paso procesional de Nuestro Señor de los Reyes. Acompañará musicalmente la Capilla Musical «Ars Sacra» de Sevilla.
URL:https://cordobacapitalcofrade.com/agenda/meditacion-entorno-a-nuestro-senor-de-los-reyes-y-posterior-rezo-del-santo-via-crucis/
LOCATION:Parroquia de San José y Espíritu Santo\, Pl. de Santa Teresa\, 1\, Córdoba\, España
CATEGORIES:Pregón,Vía Crucis
ATTACH;FMTTYPE=image/webp:https://cordobacapitalcofrade.com/wp-content/uploads/2024/02/ss19-ls24.webp
END:VEVENT
END:VCALENDAR