BEGIN:VCALENDAR
VERSION:2.0
PRODID:-//Agenda Cofrade 365 Días - ECPv6.3.7//NONSGML v1.0//EN
CALSCALE:GREGORIAN
METHOD:PUBLISH
X-ORIGINAL-URL:https://cordobacapitalcofrade.com
X-WR-CALDESC:Eventos para Agenda Cofrade 365 Días
REFRESH-INTERVAL;VALUE=DURATION:PT1H
X-Robots-Tag:noindex
X-PUBLISHED-TTL:PT1H
BEGIN:VTIMEZONE
TZID:UTC
BEGIN:STANDARD
TZOFFSETFROM:+0000
TZOFFSETTO:+0000
TZNAME:UTC
DTSTART:20240101T000000
END:STANDARD
END:VTIMEZONE
BEGIN:VEVENT
DTSTART;TZID=UTC:20240807T080000
DTEND;TZID=UTC:20240809T170000
DTSTAMP:20260423T190259
CREATED:20240805T101536Z
LAST-MODIFIED:20240805T101536Z
UID:3177-1723017600-1723222800@cordobacapitalcofrade.com
SUMMARY:Solemne Triduo en honor de San Lorenzo Mártir
DESCRIPTION:Solemne Triduo en honor de San Lorenzo Mártir a las 20:30 horas en la Real Parroquia de San Lorenzo Mártir. 
URL:https://cordobacapitalcofrade.com/agenda/solemne-triduo-en-honor-de-san-lorenzo-martir/
LOCATION:Real Parroquia de San Lorenzo Mártir\, Pl. de San Lorenzo\, 5\, Córdoba\, España
CATEGORIES:Cultos
ATTACH;FMTTYPE=image/jpeg:https://cordobacapitalcofrade.com/wp-content/uploads/2024/08/Procesion-San-Lorenzo-Martir-0033-min-scaled.jpg
END:VEVENT
BEGIN:VEVENT
DTSTART;TZID=UTC:20240810T200000
DTEND;TZID=UTC:20240810T231500
DTSTAMP:20260423T190259
CREATED:20240805T101904Z
LAST-MODIFIED:20240805T101904Z
UID:3180-1723320000-1723331700@cordobacapitalcofrade.com
SUMMARY:Función Principal y Procesión de San Lorenzo Mártir
DESCRIPTION:Solemne Función Principal de San Lorenzo Mártir a las 20:00 horas en la Real Parroquia de San Lorenzo Mártir.\n\n– Tras la Eucaristía\, Procesión de San Lorenzo Mártir con este recorrido: Salida (21:15 horas)\, Plaza de San Lorenzo\, Santa María de Gracia\, Virgen de Villaviciosa\, Buen Suceso\, Jesús Nazareno\, San Agustín\, Obispo López Criado\, Montero\, Plaza San Juan de Letrán\, Jesús del Calvario\, Plaza de San Lorenzo y Entrada. El acompañamiento musical correrá a cargo de la Agrupación Musical «Ángel Custodio» de Rute (Córdoba). 
URL:https://cordobacapitalcofrade.com/agenda/funcion-principal-y-procesion-de-san-lorenzo-martir/
LOCATION:Real Parroquia de San Lorenzo Mártir\, Pl. de San Lorenzo\, 5\, Córdoba\, España
CATEGORIES:Cultos,Procesión
ATTACH;FMTTYPE=image/webp:https://cordobacapitalcofrade.com/wp-content/uploads/2024/08/sanlorenzo-procesion-imagenes23.webp
END:VEVENT
END:VCALENDAR