BEGIN:VCALENDAR
VERSION:2.0
PRODID:-//Agenda Cofrade 365 Días - ECPv6.3.7//NONSGML v1.0//EN
CALSCALE:GREGORIAN
METHOD:PUBLISH
X-WR-CALNAME:Agenda Cofrade 365 Días
X-ORIGINAL-URL:https://cordobacapitalcofrade.com
X-WR-CALDESC:Eventos para Agenda Cofrade 365 Días
REFRESH-INTERVAL;VALUE=DURATION:PT1H
X-Robots-Tag:noindex
X-PUBLISHED-TTL:PT1H
BEGIN:VTIMEZONE
TZID:UTC
BEGIN:STANDARD
TZOFFSETFROM:+0000
TZOFFSETTO:+0000
TZNAME:UTC
DTSTART:20240101T000000
END:STANDARD
END:VTIMEZONE
BEGIN:VEVENT
DTSTART;TZID=UTC:20240426T120000
DTEND;TZID=UTC:20240501T020000
DTSTAMP:20260425T141529
CREATED:20240417T124950Z
LAST-MODIFIED:20240417T124950Z
UID:2870-1714132800-1714528800@cordobacapitalcofrade.com
SUMMARY:Cruz de Mayo de la Hermandad del Calvario
DESCRIPTION:Cruz de Mayo de la Hermandad del Calvario en la Plaza de las Cañas del 26 de abril hasta el 1 de mayo en horario de 12:00 a 02:00 horas. El día 1 será hasta las 16:30 horas.
URL:https://cordobacapitalcofrade.com/agenda/cruz-de-mayo-de-la-hermandad-del-calvario/
LOCATION:Plaza de las Cañas\, Centro\, 14002 Córdoba\, Córdoba\, España
CATEGORIES:Cruces de Mayo
ATTACH;FMTTYPE=image/jpeg:https://cordobacapitalcofrade.com/wp-content/uploads/2024/04/434981347_742492437999980_2123399059363161059_n.jpg
END:VEVENT
END:VCALENDAR