BEGIN:VCALENDAR
VERSION:2.0
PRODID:-//Agenda Cofrade 365 Días - ECPv6.3.7//NONSGML v1.0//EN
CALSCALE:GREGORIAN
METHOD:PUBLISH
X-ORIGINAL-URL:https://cordobacapitalcofrade.com
X-WR-CALDESC:Eventos para Agenda Cofrade 365 Días
REFRESH-INTERVAL;VALUE=DURATION:PT1H
X-Robots-Tag:noindex
X-PUBLISHED-TTL:PT1H
BEGIN:VTIMEZONE
TZID:UTC
BEGIN:STANDARD
TZOFFSETFROM:+0000
TZOFFSETTO:+0000
TZNAME:UTC
DTSTART:20250101T000000
END:STANDARD
END:VTIMEZONE
BEGIN:VEVENT
DTSTART;TZID=UTC:20251101T120000
DTEND;TZID=UTC:20251101T130000
DTSTAMP:20260426T010639
CREATED:20251027T144119Z
LAST-MODIFIED:20251027T144119Z
UID:7333-1761998400-1762002000@cordobacapitalcofrade.com
SUMMARY:Misa Solemne en honor de María Santísima del Refugio
DESCRIPTION:Misa Solemne en honor de María Santísima del Refugio a las 12:00 horas en la Parroquia de San José y Espíritu Santo.
URL:https://cordobacapitalcofrade.com/agenda/misa-solemne-en-honor-de-maria-santisima-del-refugio-2/
LOCATION:Parroquia de San José y Espíritu Santo\, Pl. de Santa Teresa\, 1\, Córdoba\, España
CATEGORIES:Cultos
ATTACH;FMTTYPE=image/jpeg:https://cordobacapitalcofrade.com/wp-content/uploads/2025/10/464846809_18250115878273736_1458549967427208806_n.jpg
END:VEVENT
BEGIN:VEVENT
DTSTART;TZID=UTC:20251101T170000
DTEND;TZID=UTC:20251101T200000
DTSTAMP:20260426T010639
CREATED:20251027T144310Z
LAST-MODIFIED:20251027T144310Z
UID:7336-1762016400-1762027200@cordobacapitalcofrade.com
SUMMARY:Solemne Besamanos de María Santísima del Refugio
DESCRIPTION:Solemne Besamanos de María Santísima del Refugio en horario de 17:00 a 20:00 horas en la Parroquia de San José y Espíritu Santo.
URL:https://cordobacapitalcofrade.com/agenda/solemne-besamanos-de-maria-santisima-del-refugio-3/
LOCATION:Parroquia de San José y Espíritu Santo\, Pl. de Santa Teresa\, 1\, Córdoba\, España
CATEGORIES:Cultos
ATTACH;FMTTYPE=image/jpeg:https://cordobacapitalcofrade.com/wp-content/uploads/2025/10/464846809_18250115878273736_1458549967427208806_n.jpg
END:VEVENT
END:VCALENDAR