BEGIN:VCALENDAR
VERSION:2.0
PRODID:-//Agenda Cofrade 365 Días - ECPv6.3.7//NONSGML v1.0//EN
CALSCALE:GREGORIAN
METHOD:PUBLISH
X-ORIGINAL-URL:https://cordobacapitalcofrade.com
X-WR-CALDESC:Eventos para Agenda Cofrade 365 Días
REFRESH-INTERVAL;VALUE=DURATION:PT1H
X-Robots-Tag:noindex
X-PUBLISHED-TTL:PT1H
BEGIN:VTIMEZONE
TZID:UTC
BEGIN:STANDARD
TZOFFSETFROM:+0000
TZOFFSETTO:+0000
TZNAME:UTC
DTSTART:20250101T000000
END:STANDARD
END:VTIMEZONE
BEGIN:VEVENT
DTSTART;TZID=UTC:20250208T180000
DTEND;TZID=UTC:20250208T190000
DTSTAMP:20260422T223009
CREATED:20250206T132645Z
LAST-MODIFIED:20250206T132645Z
UID:5122-1739037600-1739041200@cordobacapitalcofrade.com
SUMMARY:Exaltación en honor del Beato Padre Cristobal de Santa Catalina
DESCRIPTION:Exaltación en honor del Beato Padre Cristobal de Santa Catalina\, a cargo del Rvdo. P. D. Juan José Romero\, Párroco de Nuestra Señora del Belén\, a las 18:00 horas en la Iglesia Hospital de Jesús Nazareno.
URL:https://cordobacapitalcofrade.com/agenda/exaltacion-en-honor-del-beato-padre-cristobal-de-santa-catalina/
LOCATION:Iglesia Hospital de Jesús Nazareno\, C. Jesús Nazareno\, 11\, Córdoba\, España
CATEGORIES:Exaltación
ATTACH;FMTTYPE=image/jpeg:https://cordobacapitalcofrade.com/wp-content/uploads/2025/02/bendicion-beato-cristobal-krW-620x349@abc.jpg
END:VEVENT
BEGIN:VEVENT
DTSTART;TZID=UTC:20250212T200000
DTEND;TZID=UTC:20250214T204500
DTSTAMP:20260422T223009
CREATED:20250206T133122Z
LAST-MODIFIED:20250206T133122Z
UID:5125-1739390400-1739565900@cordobacapitalcofrade.com
SUMMARY:Solemne Triduo del Beato Padre Cristobal de Santa Catalina
DESCRIPTION:Solemne Triduo del Beato Padre Cristobal de Santa Catalina\, a las 20:00 horas en la Iglesia Hospital de Jesús Nazareno.
URL:https://cordobacapitalcofrade.com/agenda/solemne-triduo-del-beato-padre-cristobal-de-santa-catalina/
LOCATION:Iglesia Hospital de Jesús Nazareno\, C. Jesús Nazareno\, 11\, Córdoba\, España
CATEGORIES:Cultos
ATTACH;FMTTYPE=image/jpeg:https://cordobacapitalcofrade.com/wp-content/uploads/2025/02/bendicion-beato-cristobal-krW-620x349@abc.jpg
END:VEVENT
BEGIN:VEVENT
DTSTART;TZID=UTC:20250215T170000
DTEND;TZID=UTC:20250215T200000
DTSTAMP:20260422T223009
CREATED:20250125T132443Z
LAST-MODIFIED:20250125T132443Z
UID:5060-1739638800-1739649600@cordobacapitalcofrade.com
SUMMARY:Procesión del Beato Padre Cristobal de Santa Catalina
DESCRIPTION:Procesión del Beato Padre Cristobal de Santa Catalina desde la Iglesia Hospital de Jesús Nazareno con este recorrido: Salida (17:00 horas)\, Plaza del Padre Cristóbal\, Jesús Nazareno\, Yerbabuena\, Buen Suceso Arroyo de San Rafael\, Santa María de Gracia\, Realejo\, Plaza de San Andrés\, Hermanos López Dieguez\, Enrique Redel\, Reja de Don Gome\, San Agustín\, Jesús Nazareno\, Plaza del Padre Cristóbal y Entrada. Acompañará musicalmente la Agrupación Musical «Nuestro Padre Jesús de la Redención» de Córdoba.
URL:https://cordobacapitalcofrade.com/agenda/procesion-del-beato-padre-cristobal-de-santa-catalina-2/
LOCATION:Iglesia Hospital de Jesús Nazareno\, C. Jesús Nazareno\, 11\, Córdoba\, España
CATEGORIES:Procesión
ATTACH;FMTTYPE=image/jpeg:https://cordobacapitalcofrade.com/wp-content/uploads/2025/01/473742539_1042174504614595_4201528102247199150_n.jpg
END:VEVENT
BEGIN:VEVENT
DTSTART;TZID=UTC:20250216T120000
DTEND;TZID=UTC:20250216T130000
DTSTAMP:20260422T223009
CREATED:20250206T133329Z
LAST-MODIFIED:20250206T133329Z
UID:5127-1739707200-1739710800@cordobacapitalcofrade.com
SUMMARY:Eucaristía de Acción de Gracias al Beato Padre Cristobal de Santa Catalina
DESCRIPTION:Eucaristía de Acción de Gracias al Beato Padre Cristobal de Santa Catalina\, a las 12:00 horas en la Iglesia Hospital de Jesús Nazareno.
URL:https://cordobacapitalcofrade.com/agenda/eucaristia-de-accion-de-gracias-al-beato-padre-cristobal-de-santa-catalina/
LOCATION:Iglesia Hospital de Jesús Nazareno\, C. Jesús Nazareno\, 11\, Córdoba\, España
CATEGORIES:Cultos
ATTACH;FMTTYPE=image/jpeg:https://cordobacapitalcofrade.com/wp-content/uploads/2025/02/bendicion-beato-cristobal-krW-620x349@abc.jpg
END:VEVENT
END:VCALENDAR