BEGIN:VCALENDAR
VERSION:2.0
PRODID:-//Agenda Cofrade 365 Días - ECPv6.3.7//NONSGML v1.0//EN
CALSCALE:GREGORIAN
METHOD:PUBLISH
X-WR-CALNAME:Agenda Cofrade 365 Días
X-ORIGINAL-URL:https://cordobacapitalcofrade.com
X-WR-CALDESC:Eventos para Agenda Cofrade 365 Días
REFRESH-INTERVAL;VALUE=DURATION:PT1H
X-Robots-Tag:noindex
X-PUBLISHED-TTL:PT1H
BEGIN:VTIMEZONE
TZID:UTC
BEGIN:STANDARD
TZOFFSETFROM:+0000
TZOFFSETTO:+0000
TZNAME:UTC
DTSTART:20250101T000000
END:STANDARD
END:VTIMEZONE
BEGIN:VEVENT
DTSTART;TZID=UTC:20250216T120000
DTEND;TZID=UTC:20250216T130000
DTSTAMP:20260422T223650
CREATED:20250206T133329Z
LAST-MODIFIED:20250206T133329Z
UID:5127-1739707200-1739710800@cordobacapitalcofrade.com
SUMMARY:Eucaristía de Acción de Gracias al Beato Padre Cristobal de Santa Catalina
DESCRIPTION:Eucaristía de Acción de Gracias al Beato Padre Cristobal de Santa Catalina\, a las 12:00 horas en la Iglesia Hospital de Jesús Nazareno.
URL:https://cordobacapitalcofrade.com/agenda/eucaristia-de-accion-de-gracias-al-beato-padre-cristobal-de-santa-catalina/
LOCATION:Iglesia Hospital de Jesús Nazareno\, C. Jesús Nazareno\, 11\, Córdoba\, España
CATEGORIES:Cultos
ATTACH;FMTTYPE=image/jpeg:https://cordobacapitalcofrade.com/wp-content/uploads/2025/02/bendicion-beato-cristobal-krW-620x349@abc.jpg
END:VEVENT
END:VCALENDAR