BEGIN:VCALENDAR
VERSION:2.0
PRODID:-//Agenda Cofrade 365 Días - ECPv6.3.7//NONSGML v1.0//EN
CALSCALE:GREGORIAN
METHOD:PUBLISH
X-ORIGINAL-URL:https://cordobacapitalcofrade.com
X-WR-CALDESC:Eventos para Agenda Cofrade 365 Días
REFRESH-INTERVAL;VALUE=DURATION:PT1H
X-Robots-Tag:noindex
X-PUBLISHED-TTL:PT1H
BEGIN:VTIMEZONE
TZID:UTC
BEGIN:STANDARD
TZOFFSETFROM:+0000
TZOFFSETTO:+0000
TZNAME:UTC
DTSTART:20250101T000000
END:STANDARD
END:VTIMEZONE
BEGIN:VEVENT
DTSTART;TZID=UTC:20250310T203000
DTEND;TZID=UTC:20250314T211500
DTSTAMP:20260422T231259
CREATED:20250310T155104Z
LAST-MODIFIED:20250310T155104Z
UID:5474-1741638600-1741986900@cordobacapitalcofrade.com
SUMMARY:Solemne Quinario en honor de Nuestro Padre Jesús Nazareno
DESCRIPTION:Solemne Quinario en honor de Nuestro Padre Jesús Nazareno\, a las 20:30 horas en la Iglesia Hospital de Jesús Nazareno.
URL:https://cordobacapitalcofrade.com/agenda/solemne-quinario-en-honor-de-nuestro-padre-jesus-nazareno-2/
LOCATION:Iglesia Hospital de Jesús Nazareno\, C. Jesús Nazareno\, 11\, Córdoba\, España
CATEGORIES:Cultos
ATTACH;FMTTYPE=image/jpeg:https://cordobacapitalcofrade.com/wp-content/uploads/2025/03/Quinario-Nazareno-0061-min-scaled.jpg
END:VEVENT
END:VCALENDAR