BEGIN:VCALENDAR
VERSION:2.0
PRODID:-//Agenda Cofrade 365 Días - ECPv6.3.7//NONSGML v1.0//EN
CALSCALE:GREGORIAN
METHOD:PUBLISH
X-WR-CALNAME:Agenda Cofrade 365 Días
X-ORIGINAL-URL:https://cordobacapitalcofrade.com
X-WR-CALDESC:Eventos para Agenda Cofrade 365 Días
REFRESH-INTERVAL;VALUE=DURATION:PT1H
X-Robots-Tag:noindex
X-PUBLISHED-TTL:PT1H
BEGIN:VTIMEZONE
TZID:UTC
BEGIN:STANDARD
TZOFFSETFROM:+0000
TZOFFSETTO:+0000
TZNAME:UTC
DTSTART:20250101T000000
END:STANDARD
END:VTIMEZONE
BEGIN:VEVENT
DTSTART;TZID=UTC:20250211T210000
DTEND;TZID=UTC:20250211T235900
DTSTAMP:20260424T223709
CREATED:20250210T143458Z
LAST-MODIFIED:20250210T143458Z
UID:5135-1739307600-1739318340@cordobacapitalcofrade.com
SUMMARY:1er Ensayo de costaleros de Nuestro Padre Jesús del Perdón
DESCRIPTION:1er Ensayo de costaleros de Nuestro Padre Jesús del Perdón\, a las 21:00 horas desde el local de ensayos.
URL:https://cordobacapitalcofrade.com/agenda/1er-ensayo-de-costaleros-de-nuestro-padre-jesus-del-perdon/
LOCATION:Local de Ensayos Parroquia de la Trinidad\, C. González López\, 1\, Centro\, 14003 Córdoba\, Córdoba\, España
CATEGORIES:Ensayos Costaleros
ATTACH;FMTTYPE=image/jpeg:https://cordobacapitalcofrade.com/wp-content/uploads/2025/02/jpg-10.jpg
END:VEVENT
BEGIN:VEVENT
DTSTART;TZID=UTC:20250215T110000
DTEND;TZID=UTC:20250215T210000
DTSTAMP:20260424T223709
CREATED:20250210T144441Z
LAST-MODIFIED:20250210T144441Z
UID:5149-1739617200-1739653200@cordobacapitalcofrade.com
SUMMARY:Solemne Besamanos de Nuestro Padre Jesús del Perdón
DESCRIPTION:Solemne Besamanos de Nuestro Padre Jesús del Perdón en horario de 11:00 a 21:00 horas en la Capilla de San Roque.
URL:https://cordobacapitalcofrade.com/agenda/solemne-besamanos-de-nuestro-padre-jesus-del-perdon-2/
LOCATION:Capilla de San Roque\, Calle Buen Pastor\, 20\, Córdoba\, Córdoba\, 14003
CATEGORIES:Cultos
ATTACH;FMTTYPE=image/jpeg:https://cordobacapitalcofrade.com/wp-content/uploads/2025/02/Besamanos-Perdon-0106-min-scaled.jpg
END:VEVENT
BEGIN:VEVENT
DTSTART;TZID=UTC:20250218T210000
DTEND;TZID=UTC:20250218T235900
DTSTAMP:20260424T223709
CREATED:20250217T163036Z
LAST-MODIFIED:20250217T163036Z
UID:5224-1739912400-1739923140@cordobacapitalcofrade.com
SUMMARY:2º Ensayo de costaleros de Nuestro Padre Jesús del Perdón
DESCRIPTION:2º Ensayo de costaleros de Nuestro Padre Jesús del Perdón\, a las 21:00 horas desde el local de ensayos.
URL:https://cordobacapitalcofrade.com/agenda/2o-ensayo-de-costaleros-de-nuestro-padre-jesus-del-perdon/
LOCATION:Local de Ensayos Parroquia de la Trinidad\, C. González López\, 1\, Centro\, 14003 Córdoba\, Córdoba\, España
CATEGORIES:Ensayos Costaleros
ATTACH;FMTTYPE=image/jpeg:https://cordobacapitalcofrade.com/wp-content/uploads/2025/02/jpg-10.jpg
END:VEVENT
BEGIN:VEVENT
DTSTART;TZID=UTC:20250223T100000
DTEND;TZID=UTC:20250223T133000
DTSTAMP:20260424T223709
CREATED:20250217T165449Z
LAST-MODIFIED:20250223T131043Z
UID:5242-1740304800-1740317400@cordobacapitalcofrade.com
SUMMARY:1er ensayo de costaleros de María Santísima de Rocío y Lágrimas
DESCRIPTION:1er ensayo de costaleros de María Santísima de Rocío y Lágrimas\, a las 10:00 horas desde el local de ensayos.
URL:https://cordobacapitalcofrade.com/agenda/1er-ensayo-de-costaleros-de-maria-santisima-de-rocio-y-lagrimas/
LOCATION:Local de Ensayos Parroquia de la Trinidad\, C. González López\, 1\, Centro\, 14003 Córdoba\, Córdoba\, España
CATEGORIES:Ensayos Costaleros
ATTACH;FMTTYPE=image/jpeg:https://cordobacapitalcofrade.com/wp-content/uploads/2025/02/Perdon-2023-0713-min-scaled.jpg
END:VEVENT
END:VCALENDAR