BEGIN:VCALENDAR
VERSION:2.0
PRODID:-//Agenda Cofrade 365 Días - ECPv6.3.7//NONSGML v1.0//EN
CALSCALE:GREGORIAN
METHOD:PUBLISH
X-ORIGINAL-URL:https://cordobacapitalcofrade.com
X-WR-CALDESC:Eventos para Agenda Cofrade 365 Días
REFRESH-INTERVAL;VALUE=DURATION:PT1H
X-Robots-Tag:noindex
X-PUBLISHED-TTL:PT1H
BEGIN:VTIMEZONE
TZID:UTC
BEGIN:STANDARD
TZOFFSETFROM:+0000
TZOFFSETTO:+0000
TZNAME:UTC
DTSTART:20250101T000000
END:STANDARD
END:VTIMEZONE
BEGIN:VEVENT
DTSTART;TZID=UTC:20250302T100000
DTEND;TZID=UTC:20250302T133000
DTSTAMP:20260425T024022
CREATED:20250225T134352Z
LAST-MODIFIED:20250225T134352Z
UID:5309-1740909600-1740922200@cordobacapitalcofrade.com
SUMMARY:2º ensayo de costaleros de María Santísima de Rocío y Lágrimas
DESCRIPTION:2º ensayo de costaleros de María Santísima de Rocío y Lágrimas\, a las 10:00 horas desde el local de ensayos.
URL:https://cordobacapitalcofrade.com/agenda/2o-ensayo-de-costaleros-de-maria-santisima-de-rocio-y-lagrimas/
LOCATION:Local de Ensayos Parroquia de la Trinidad\, C. González López\, 1\, Centro\, 14003 Córdoba\, Córdoba\, España
CATEGORIES:Ensayos Costaleros
ATTACH;FMTTYPE=image/jpeg:https://cordobacapitalcofrade.com/wp-content/uploads/2025/02/Perdon-2023-0713-min-scaled.jpg
END:VEVENT
BEGIN:VEVENT
DTSTART;TZID=UTC:20250311T210000
DTEND;TZID=UTC:20250311T235900
DTSTAMP:20260425T024022
CREATED:20250310T173053Z
LAST-MODIFIED:20250310T173053Z
UID:5494-1741726800-1741737540@cordobacapitalcofrade.com
SUMMARY:3er Ensayo de costaleros de Nuestro Padre Jesús del Perdón
DESCRIPTION:3er Ensayo de costaleros de Nuestro Padre Jesús del Perdón\, a las 21:00 horas desde el local ubicado en la C/ González López.
URL:https://cordobacapitalcofrade.com/agenda/3er-ensayo-de-costaleros-de-nuestro-padre-jesus-del-perdon/
LOCATION:Local de Ensayos Parroquia de la Trinidad\, C. González López\, 1\, Centro\, 14003 Córdoba\, Córdoba\, España
CATEGORIES:Ensayos Costaleros
ATTACH;FMTTYPE=image/jpeg:https://cordobacapitalcofrade.com/wp-content/uploads/2025/02/jpg-10.jpg
END:VEVENT
BEGIN:VEVENT
DTSTART;TZID=UTC:20250314T203000
DTEND;TZID=UTC:20250314T220000
DTSTAMP:20260425T024022
CREATED:20250310T175056Z
LAST-MODIFIED:20250310T175056Z
UID:5527-1741984200-1741989600@cordobacapitalcofrade.com
SUMMARY:Solemne Traslado de Nuestro Padre Jesús del Perdón
DESCRIPTION:Solemne Traslado de Nuestro Padre Jesús del Perdón\,  a las 20:30 horas desde la Capilla de San Roque hasta la Parroquia de San Juan y Todos los Santos (Trinidad) con motivo del Quinario conjunto de las Hermandades de la Parroquia.
URL:https://cordobacapitalcofrade.com/agenda/solemne-traslado-de-nuestro-padre-jesus-del-perdon/
LOCATION:Capilla de San Roque\, Calle Buen Pastor\, 20\, Córdoba\, Córdoba\, 14003
CATEGORIES:Traslados
ATTACH;FMTTYPE=image/jpeg:https://cordobacapitalcofrade.com/wp-content/uploads/2025/03/via-crucis-agrupacic3b3n-2019-6.jpg
END:VEVENT
BEGIN:VEVENT
DTSTART;TZID=UTC:20250319T203000
DTEND;TZID=UTC:20250322T213000
DTSTAMP:20260425T024022
CREATED:20250312T170727Z
LAST-MODIFIED:20250312T170727Z
UID:5593-1742416200-1742679000@cordobacapitalcofrade.com
SUMMARY:Quinario conjunto Extraordinario del Santísimo Cristo de la Salud\, Nuestro Padre Jesús Nazareno de la Santa Faz y Nuestro Padre Jesús del Perdón
DESCRIPTION:Quinario conjunto Extraordinario del Santísimo Cristo de la Salud\, Nuestro Padre Jesús Nazareno de la Santa Faz y Nuestro Padre Jesús del Perdón\, a las 20:30 horas en la Parroquia de San Juan y Todos los Santos (Trinidad).
URL:https://cordobacapitalcofrade.com/agenda/quinario-conjunto-extraordinario-del-santisimo-cristo-de-la-salud-nuestro-padre-jesus-nazareno-de-la-santa-faz-y-nuestro-padre-jesus-del-perdon/
LOCATION:Parroquia de la Trinidad\, Plaza de la Trinidad\, Córdoba\, España
CATEGORIES:Cultos
ATTACH;FMTTYPE=image/webp:https://cordobacapitalcofrade.com/wp-content/uploads/2025/03/quinario-conjunto-trinidad-RvxfUxnAgz8ItqnhBs4I73N-1200x840@diario_abc.webp
END:VEVENT
BEGIN:VEVENT
DTSTART;TZID=UTC:20250321T211500
DTEND;TZID=UTC:20250321T221500
DTSTAMP:20260425T024022
CREATED:20250317T174725Z
LAST-MODIFIED:20250317T174725Z
UID:5654-1742591700-1742595300@cordobacapitalcofrade.com
SUMMARY:Concierto de Cuaresma a cargo de la Banda de Música "Tubamirum" de Cañete de las Torres (Córdoba).
DESCRIPTION:Concierto de Cuaresma a cargo de la Banda de Música «Tubamirum» de Cañete de las Torres (Córdoba) sobre las 21:15 horas en la Parroquia de San Juan y Todos los Santos (Trinidad).
URL:https://cordobacapitalcofrade.com/agenda/concierto-de-cuaresma-a-cargo-de-la-banda-de-musica-tubamirum-de-canete-de-las-torres-cordoba/
LOCATION:Parroquia de la Trinidad\, Plaza de la Trinidad\, Córdoba\, España
CATEGORIES:Conciertos
ATTACH;FMTTYPE=image/jpeg:https://cordobacapitalcofrade.com/wp-content/uploads/2025/03/concierto-tubamirum-trinidad-kGcB-1240x698@abc.jpg
END:VEVENT
BEGIN:VEVENT
DTSTART;TZID=UTC:20250323T130000
DTEND;TZID=UTC:20250323T140000
DTSTAMP:20260425T024022
CREATED:20250312T170849Z
LAST-MODIFIED:20250312T170849Z
UID:5596-1742734800-1742738400@cordobacapitalcofrade.com
SUMMARY:Quinario conjunto Extraordinario del Santísimo Cristo de la Salud\, Nuestro Padre Jesús Nazareno de la Santa Faz y Nuestro Padre Jesús del Perdón
DESCRIPTION:Quinario conjunto Extraordinario del Santísimo Cristo de la Salud\, Nuestro Padre Jesús Nazareno de la Santa Faz y Nuestro Padre Jesús del Perdón\, a las 13:00 horas en la Parroquia de San Juan y Todos los Santos (Trinidad).
URL:https://cordobacapitalcofrade.com/agenda/quinario-conjunto-extraordinario-del-santisimo-cristo-de-la-salud-nuestro-padre-jesus-nazareno-de-la-santa-faz-y-nuestro-padre-jesus-del-perdon-2/
LOCATION:Parroquia de la Trinidad\, Plaza de la Trinidad\, Córdoba\, España
CATEGORIES:Cultos
ATTACH;FMTTYPE=image/webp:https://cordobacapitalcofrade.com/wp-content/uploads/2025/03/quinario-conjunto-trinidad-RvxfUxnAgz8ItqnhBs4I73N-1200x840@diario_abc.webp
END:VEVENT
END:VCALENDAR