BEGIN:VCALENDAR
VERSION:2.0
PRODID:-//Agenda Cofrade 365 Días - ECPv6.3.7//NONSGML v1.0//EN
CALSCALE:GREGORIAN
METHOD:PUBLISH
X-WR-CALNAME:Agenda Cofrade 365 Días
X-ORIGINAL-URL:https://cordobacapitalcofrade.com
X-WR-CALDESC:Eventos para Agenda Cofrade 365 Días
REFRESH-INTERVAL;VALUE=DURATION:PT1H
X-Robots-Tag:noindex
X-PUBLISHED-TTL:PT1H
BEGIN:VTIMEZONE
TZID:UTC
BEGIN:STANDARD
TZOFFSETFROM:+0000
TZOFFSETTO:+0000
TZNAME:UTC
DTSTART:20250101T000000
END:STANDARD
END:VTIMEZONE
BEGIN:VEVENT
DTSTART;TZID=UTC:20250909T210000
DTEND;TZID=UTC:20250909T223000
DTSTAMP:20260422T201801
CREATED:20250908T105119Z
LAST-MODIFIED:20250908T105119Z
UID:6911-1757451600-1757457000@cordobacapitalcofrade.com
SUMMARY:Igualá de costaleros de Nuestro Padre Jesús del Perdón Magno Vía Crucis
DESCRIPTION:Igualá de costaleros de Nuestro Padre Jesús del Perdón\, de cara al Magno Vía Crucis\, a las 21:00 horas en el Centro Parroquial «Carmen Márquez Criado».
URL:https://cordobacapitalcofrade.com/agenda/iguala-de-costaleros-de-nuestro-padre-jesus-del-perdon-magno-via-crucis/
LOCATION:Salones Parroquiales de la Trinidad\, C. Sánchez de Feria\, 13\, Córdoba\, España
CATEGORIES:Igualás de costaleros
ATTACH;FMTTYPE=image/jpeg:https://cordobacapitalcofrade.com/wp-content/uploads/2025/09/491203558_703571348995392_789604577315405571_n.jpg
END:VEVENT
BEGIN:VEVENT
DTSTART;TZID=UTC:20250916T210000
DTEND;TZID=UTC:20250916T235900
DTSTAMP:20260422T201801
CREATED:20250915T183233Z
LAST-MODIFIED:20250915T183233Z
UID:7015-1758056400-1758067140@cordobacapitalcofrade.com
SUMMARY:1er Ensayo de costaleros de Nuestro Padre Jesús del Perdón Magno Vía Crucis
DESCRIPTION:1er Ensayo de costaleros de Nuestro Padre Jesús del Perdón de cara al Magno Vía Crucis\, a las 21:00 horas desde el local de ensayos.
URL:https://cordobacapitalcofrade.com/agenda/1er-ensayo-de-costaleros-de-nuestro-padre-jesus-del-perdon-magno-via-crucis/
LOCATION:Local de Ensayos Parroquia de la Trinidad\, C. González López\, 1\, Centro\, 14003 Córdoba\, Córdoba\, España
CATEGORIES:Igualás de costaleros
ATTACH;FMTTYPE=image/jpeg:https://cordobacapitalcofrade.com/wp-content/uploads/2025/09/491203558_703571348995392_789604577315405571_n.jpg
END:VEVENT
BEGIN:VEVENT
DTSTART;TZID=UTC:20250923T210000
DTEND;TZID=UTC:20250923T235900
DTSTAMP:20260422T201801
CREATED:20250922T181708Z
LAST-MODIFIED:20250922T181708Z
UID:7057-1758661200-1758671940@cordobacapitalcofrade.com
SUMMARY:2º Ensayo de costaleros de Nuestro Padre Jesús del Perdón Magno Vía Crucis
DESCRIPTION:2º Ensayo de costaleros de Nuestro Padre Jesús del Perdón de cara al Magno Vía Crucis\, a las 21:00 horas desde el local de ensayos.
URL:https://cordobacapitalcofrade.com/agenda/2o-ensayo-de-costaleros-de-nuestro-padre-jesus-del-perdon-magno-via-crucis/
LOCATION:Local de Ensayos Parroquia de la Trinidad\, C. González López\, 1\, Centro\, 14003 Córdoba\, Córdoba\, España
CATEGORIES:Ensayos Costaleros
ATTACH;FMTTYPE=image/jpeg:https://cordobacapitalcofrade.com/wp-content/uploads/2025/09/491203558_703571348995392_789604577315405571_n.jpg
END:VEVENT
BEGIN:VEVENT
DTSTART;TZID=UTC:20250930T210000
DTEND;TZID=UTC:20250930T235900
DTSTAMP:20260422T201801
CREATED:20250929T133300Z
LAST-MODIFIED:20250929T133300Z
UID:7167-1759266000-1759276740@cordobacapitalcofrade.com
SUMMARY:3er Ensayo de costaleros de Nuestro Padre Jesús del Perdón Magno Vía Crucis
DESCRIPTION:3er Ensayo de costaleros de Nuestro Padre Jesús del Perdón de cara al Magno Vía Crucis\, a las 21:00 horas desde el local de ensayos.
URL:https://cordobacapitalcofrade.com/agenda/3er-ensayo-de-costaleros-de-nuestro-padre-jesus-del-perdon-magno-via-crucis/
LOCATION:Local de Ensayos Parroquia de la Trinidad\, C. González López\, 1\, Centro\, 14003 Córdoba\, Córdoba\, España
CATEGORIES:Ensayos Costaleros
ATTACH;FMTTYPE=image/jpeg:https://cordobacapitalcofrade.com/wp-content/uploads/2025/09/491203558_703571348995392_789604577315405571_n.jpg
END:VEVENT
END:VCALENDAR