BEGIN:VCALENDAR
VERSION:2.0
PRODID:-//Agenda Cofrade 365 Días - ECPv6.3.7//NONSGML v1.0//EN
CALSCALE:GREGORIAN
METHOD:PUBLISH
X-WR-CALNAME:Agenda Cofrade 365 Días
X-ORIGINAL-URL:https://cordobacapitalcofrade.com
X-WR-CALDESC:Eventos para Agenda Cofrade 365 Días
REFRESH-INTERVAL;VALUE=DURATION:PT1H
X-Robots-Tag:noindex
X-PUBLISHED-TTL:PT1H
BEGIN:VTIMEZONE
TZID:UTC
BEGIN:STANDARD
TZOFFSETFROM:+0000
TZOFFSETTO:+0000
TZNAME:UTC
DTSTART:20250101T000000
END:STANDARD
END:VTIMEZONE
BEGIN:VEVENT
DTSTART;TZID=UTC:20251112T203000
DTEND;TZID=UTC:20251114T211500
DTSTAMP:20260422T004253
CREATED:20251103T160901Z
LAST-MODIFIED:20251103T160901Z
UID:7405-1762979400-1763154900@cordobacapitalcofrade.com
SUMMARY:Solemne Triduo de María Santísima de Rocío y Lágrimas
DESCRIPTION:Solemne Triduo de María Santísima de Rocío y Lágrimas\, a las 20:30 horas en la Capilla de San Roque.
URL:https://cordobacapitalcofrade.com/agenda/solemne-triduo-de-maria-santisima-de-rocio-y-lagrimas/
LOCATION:Capilla de San Roque\, Calle Buen Pastor\, 20\, Córdoba\, Córdoba\, 14003
CATEGORIES:Cultos
ATTACH;FMTTYPE=image/jpeg:https://cordobacapitalcofrade.com/wp-content/uploads/2025/11/486842396_1103653855138649_5568257371134633644_n.jpg
END:VEVENT
END:VCALENDAR