BEGIN:VCALENDAR
VERSION:2.0
PRODID:-//Agenda Cofrade 365 Días - ECPv6.3.7//NONSGML v1.0//EN
CALSCALE:GREGORIAN
METHOD:PUBLISH
X-ORIGINAL-URL:https://cordobacapitalcofrade.com
X-WR-CALDESC:Eventos para Agenda Cofrade 365 Días
REFRESH-INTERVAL;VALUE=DURATION:PT1H
X-Robots-Tag:noindex
X-PUBLISHED-TTL:PT1H
BEGIN:VTIMEZONE
TZID:UTC
BEGIN:STANDARD
TZOFFSETFROM:+0000
TZOFFSETTO:+0000
TZNAME:UTC
DTSTART:20260101T000000
END:STANDARD
END:VTIMEZONE
BEGIN:VEVENT
DTSTART;TZID=UTC:20260118T120000
DTEND;TZID=UTC:20260118T143000
DTSTAMP:20260421T203110
CREATED:20260106T184133Z
LAST-MODIFIED:20260106T184133Z
UID:8315-1768737600-1768746600@cordobacapitalcofrade.com
SUMMARY:Igualá de costaleros de María Santísima del Rocío y Lágrimas
DESCRIPTION:Igualá de costaleros de María Santísima del Rocío y Lágrimas\, a las 12:00 horas en la Parroquia de San Juan y Todos los Santos (Trinidad).
URL:https://cordobacapitalcofrade.com/agenda/iguala-de-costaleros-de-maria-santisima-del-rocio-y-lagrimas/
LOCATION:Parroquia de la Trinidad\, Plaza de la Trinidad\, Córdoba\, España
CATEGORIES:Igualás de costaleros
ATTACH;FMTTYPE=image/jpeg:https://cordobacapitalcofrade.com/wp-content/uploads/2026/01/608233111_1346436747527024_2266574003100445517_n.jpg
END:VEVENT
END:VCALENDAR