BEGIN:VCALENDAR
VERSION:2.0
PRODID:-//Agenda Cofrade 365 Días - ECPv6.3.7//NONSGML v1.0//EN
CALSCALE:GREGORIAN
METHOD:PUBLISH
X-ORIGINAL-URL:https://cordobacapitalcofrade.com
X-WR-CALDESC:Eventos para Agenda Cofrade 365 Días
REFRESH-INTERVAL;VALUE=DURATION:PT1H
X-Robots-Tag:noindex
X-PUBLISHED-TTL:PT1H
BEGIN:VTIMEZONE
TZID:UTC
BEGIN:STANDARD
TZOFFSETFROM:+0000
TZOFFSETTO:+0000
TZNAME:UTC
DTSTART:20250101T000000
END:STANDARD
END:VTIMEZONE
BEGIN:VEVENT
DTSTART;TZID=UTC:20250124T213000
DTEND;TZID=UTC:20250124T230000
DTSTAMP:20260421T230742
CREATED:20241127T143044Z
LAST-MODIFIED:20250120T125450Z
UID:4292-1737754200-1737759600@cordobacapitalcofrade.com
SUMMARY:Igualá de costaleros de Nuestro Padre Jesús Divino Salvador en su Prendimiento y Nuestra Señora de la Piedad
DESCRIPTION:Igualá de costaleros de Nuestro Padre Jesús Divino Salvador en su Prendimiento y Nuestra Señora de la Piedad\, a las 21:30 horas en la Casa de Hermandad sita en la C/ Golondrina\, 3.
URL:https://cordobacapitalcofrade.com/agenda/iguala-de-costaleros-de-nuestro-padre-jesus-divino-salvador-en-su-prendimiento-y-nuestra-senora-de-la-piedad-2/
LOCATION:Colegio de los Salesianos\, C. Santo Domingo Savio\, 2\, Centro\, 14002 Córdoba\, Córdoba\, España
CATEGORIES:Igualás de costaleros
ATTACH;FMTTYPE=image/jpeg:https://cordobacapitalcofrade.com/wp-content/uploads/2024/11/468365107_995197412650852_7563009255979336119_n.jpg
END:VEVENT
BEGIN:VEVENT
DTSTART;TZID=UTC:20250128T200000
DTEND;TZID=UTC:20250130T210000
DTSTAMP:20260421T230742
CREATED:20250127T163746Z
LAST-MODIFIED:20250127T163746Z
UID:5069-1738094400-1738270800@cordobacapitalcofrade.com
SUMMARY:Solemne Triduo de San Juan Bosco
DESCRIPTION:Solemne Triduo de San Juan Bosco\, a las 20:00 horas en el Santuario de María Auxiliadora.
URL:https://cordobacapitalcofrade.com/agenda/solemne-triduo-de-san-juan-bosco/
LOCATION:Santuario de María Auxiliadora\, C. María Auxiliadora\, 8\, Centro\, 14002 Córdoba\, Córdoba\, España
CATEGORIES:Cultos
ATTACH;FMTTYPE=image/jpeg:https://cordobacapitalcofrade.com/wp-content/uploads/2025/01/422449377_788630963307499_7384464624915432962_n.jpg
END:VEVENT
END:VCALENDAR