BEGIN:VCALENDAR
VERSION:2.0
PRODID:-//Agenda Cofrade 365 Días - ECPv6.3.7//NONSGML v1.0//EN
CALSCALE:GREGORIAN
METHOD:PUBLISH
X-WR-CALNAME:Agenda Cofrade 365 Días
X-ORIGINAL-URL:https://cordobacapitalcofrade.com
X-WR-CALDESC:Eventos para Agenda Cofrade 365 Días
REFRESH-INTERVAL;VALUE=DURATION:PT1H
X-Robots-Tag:noindex
X-PUBLISHED-TTL:PT1H
BEGIN:VTIMEZONE
TZID:UTC
BEGIN:STANDARD
TZOFFSETFROM:+0000
TZOFFSETTO:+0000
TZNAME:UTC
DTSTART:20250101T000000
END:STANDARD
END:VTIMEZONE
BEGIN:VEVENT
DTSTART;TZID=UTC:20250301T210000
DTEND;TZID=UTC:20250301T223000
DTSTAMP:20260421T194959
CREATED:20250223T130900Z
LAST-MODIFIED:20250223T130900Z
UID:5286-1740862800-1740868200@cordobacapitalcofrade.com
SUMMARY:Concierto de marchas procesionales a cargo de la Agrupación Musical "Cristo de Gracia" de Córdoba
DESCRIPTION:Concierto de marchas procesionales a cargo de la Agrupación Musical «Cristo de Gracia» de Córdoba\, a las 21:00 horas en el Santuario de María Auxiliadora. Se estrenará la marcha «Señor\, ten Piedad» obra de D. Juan Manuel Carmona.
URL:https://cordobacapitalcofrade.com/agenda/concierto-de-marchas-procesionales-a-cargo-de-la-agrupacion-musical-cristo-de-gracia-de-cordoba/
LOCATION:Santuario de María Auxiliadora\, C. María Auxiliadora\, 8\, Centro\, 14002 Córdoba\, Córdoba\, España
CATEGORIES:Conciertos
ATTACH;FMTTYPE=image/jpeg:https://cordobacapitalcofrade.com/wp-content/uploads/2025/02/480772601_1185013066960854_5347518346985947457_n.jpg
END:VEVENT
BEGIN:VEVENT
DTSTART;TZID=UTC:20250304T210000
DTEND;TZID=UTC:20250304T211500
DTSTAMP:20260421T194959
CREATED:20250303T165532Z
LAST-MODIFIED:20250303T165532Z
UID:5350-1741122000-1741122900@cordobacapitalcofrade.com
SUMMARY:Bendición de la bambalina lateral del paso de palio de Nuestra Señora de la Piedad
DESCRIPTION:Bendición de la bambalina lateral del paso de palio de Nuestra Señora de la Piedad realizado en los talleres de D. Jesús Rosado Borja de Écija (Sevilla)\, a las 21:00 horas en el Santuario de María Auxiliadora.
URL:https://cordobacapitalcofrade.com/agenda/bendicion-de-la-bambalina-lateral-del-paso-de-palio-de-nuestra-senora-de-la-piedad/
LOCATION:Santuario de María Auxiliadora\, C. María Auxiliadora\, 8\, Centro\, 14002 Córdoba\, Córdoba\, España
CATEGORIES:Presentación
ATTACH;FMTTYPE=image/jpeg:https://cordobacapitalcofrade.com/wp-content/uploads/2025/03/481164851_1066202312217028_1374196766592515357_n.jpg
END:VEVENT
BEGIN:VEVENT
DTSTART;TZID=UTC:20250307T103000
DTEND;TZID=UTC:20250307T200000
DTSTAMP:20260421T194959
CREATED:20250303T173452Z
LAST-MODIFIED:20250303T173452Z
UID:5398-1741343400-1741377600@cordobacapitalcofrade.com
SUMMARY:Solemne Besamanos de Nuestro Padre Jesús del Divino Salvador en su Prendimiento
DESCRIPTION:Solemne Besamanos de Nuestro Padre Jesús del Divino Salvador en su Prendimiento en horario de 10:30 a 20:00 horas en el Santuario de María Auxiliadora.
URL:https://cordobacapitalcofrade.com/agenda/solemne-besamanos-de-nuestro-padre-jesus-del-divino-salvador-en-su-prendimiento/
LOCATION:Santuario de María Auxiliadora\, C. María Auxiliadora\, 8\, Centro\, 14002 Córdoba\, Córdoba\, España
CATEGORIES:Cultos
ATTACH;FMTTYPE=image/jpeg:https://cordobacapitalcofrade.com/wp-content/uploads/2025/03/Besamanos-Prendimiento-0680-min-scaled.jpg
END:VEVENT
BEGIN:VEVENT
DTSTART;TZID=UTC:20250308T213000
DTEND;TZID=UTC:20250308T235900
DTSTAMP:20260421T194959
CREATED:20241127T143614Z
LAST-MODIFIED:20241127T143614Z
UID:4298-1741469400-1741478340@cordobacapitalcofrade.com
SUMMARY:2ºEnsayo de costaleros de Nuestro Padre Jesús Divino Salvador en su Prendimiento y Nuestra Señora de la Piedad
DESCRIPTION:2ºEnsayo de costaleros de Nuestro Padre Jesús Divino Salvador en su Prendimiento y Nuestra Señora de la Piedad\, a las 21:30 horas desde el local de ensayos.
URL:https://cordobacapitalcofrade.com/agenda/2oensayo-de-costaleros-de-nuestro-padre-jesus-divino-salvador-en-su-prendimiento-y-nuestra-senora-de-la-piedad/
LOCATION:Casa de Hermandad del Prendimiento\, Maria Auxiliadora\, 12\, Córdoba\, Córdoba\, España
CATEGORIES:Ensayos Costaleros
ATTACH;FMTTYPE=image/jpeg:https://cordobacapitalcofrade.com/wp-content/uploads/2024/11/prendimiento-traslado-cordoba13.jpg
END:VEVENT
BEGIN:VEVENT
DTSTART;TZID=UTC:20250311T203000
DTEND;TZID=UTC:20250315T211500
DTSTAMP:20260421T194959
CREATED:20250310T172818Z
LAST-MODIFIED:20250310T172818Z
UID:5489-1741725000-1742073300@cordobacapitalcofrade.com
SUMMARY:Solemne Quinario en honor de Nuestro Padre Jesús del Divino Salvador en su Prendimiento
DESCRIPTION:Solemne Quinario en honor de Nuestro Padre Jesús del Divino Salvador en su Prendimiento\, a las 20:30 horas en el Santuario de María Auxiliadora.
URL:https://cordobacapitalcofrade.com/agenda/solemne-quinario-en-honor-de-nuestro-padre-jesus-del-divino-salvador-en-su-prendimiento/
LOCATION:Santuario de María Auxiliadora\, C. María Auxiliadora\, 8\, Centro\, 14002 Córdoba\, Córdoba\, España
CATEGORIES:Cultos
ATTACH;FMTTYPE=image/jpeg:https://cordobacapitalcofrade.com/wp-content/uploads/2025/03/428610059_805915678245694_5126017999673475920_n.jpg
END:VEVENT
BEGIN:VEVENT
DTSTART;TZID=UTC:20250316T130000
DTEND;TZID=UTC:20250316T140000
DTSTAMP:20260421T194959
CREATED:20250310T172931Z
LAST-MODIFIED:20250310T172931Z
UID:5492-1742130000-1742133600@cordobacapitalcofrade.com
SUMMARY:Fiesta de Regla de la Hermandad del Prendimiento
DESCRIPTION:Fiesta de Regla de la Hermandad\, a las 13:00 horas en el Santuario de María Auxiliadora.
URL:https://cordobacapitalcofrade.com/agenda/fiesta-de-regla-de-la-hermandad-del-prendimiento/
LOCATION:Santuario de María Auxiliadora\, C. María Auxiliadora\, 8\, Centro\, 14002 Córdoba\, Córdoba\, España
CATEGORIES:Cultos
ATTACH;FMTTYPE=image/jpeg:https://cordobacapitalcofrade.com/wp-content/uploads/2025/03/428610059_805915678245694_5126017999673475920_n.jpg
END:VEVENT
BEGIN:VEVENT
DTSTART;TZID=UTC:20250322T213000
DTEND;TZID=UTC:20250322T235900
DTSTAMP:20260421T194959
CREATED:20241127T143907Z
LAST-MODIFIED:20241127T143907Z
UID:4301-1742679000-1742687940@cordobacapitalcofrade.com
SUMMARY:3er Ensayo de costaleros de Nuestro Padre Jesús Divino Salvador en su Prendimiento y Nuestra Señora de la Piedad
DESCRIPTION:3er Ensayo de costaleros de Nuestro Padre Jesús Divino Salvador en su Prendimiento y Nuestra Señora de la Piedad\, a las 21:30 horas desde el local de ensayos.
URL:https://cordobacapitalcofrade.com/agenda/3er-ensayo-de-costaleros-de-nuestro-padre-jesus-divino-salvador-en-su-prendimiento-y-nuestra-senora-de-la-piedad-2/
LOCATION:Santuario de María Auxiliadora\, C. María Auxiliadora\, 8\, Centro\, 14002 Córdoba\, Córdoba\, España
CATEGORIES:Igualás de costaleros
ATTACH;FMTTYPE=image/jpeg:https://cordobacapitalcofrade.com/wp-content/uploads/2024/11/Prendimiento-2023-0720-min-scaled.jpg
END:VEVENT
END:VCALENDAR