BEGIN:VCALENDAR
VERSION:2.0
PRODID:-//Agenda Cofrade 365 Días - ECPv6.3.7//NONSGML v1.0//EN
CALSCALE:GREGORIAN
METHOD:PUBLISH
X-ORIGINAL-URL:https://cordobacapitalcofrade.com
X-WR-CALDESC:Eventos para Agenda Cofrade 365 Días
REFRESH-INTERVAL;VALUE=DURATION:PT1H
X-Robots-Tag:noindex
X-PUBLISHED-TTL:PT1H
BEGIN:VTIMEZONE
TZID:UTC
BEGIN:STANDARD
TZOFFSETFROM:+0000
TZOFFSETTO:+0000
TZNAME:UTC
DTSTART:20240101T000000
END:STANDARD
END:VTIMEZONE
BEGIN:VEVENT
DTSTART;TZID=UTC:20240905T203000
DTEND;TZID=UTC:20240907T213000
DTSTAMP:20260423T053406
CREATED:20240830T130323Z
LAST-MODIFIED:20240830T130323Z
UID:3286-1725568200-1725744600@cordobacapitalcofrade.com
SUMMARY:Triduo en honor de Nuestra Señora de la Piedad
DESCRIPTION:Triduo en honor de Nuestra Señora de la Piedad a las 21:00 horas en el Santuario de María Auxiliadora. Previamente\, a las 20:30 horas\, Rezo del Santo Rosario. \nPredica el Rvdo. P. D. Bernabé Arjona Cañas SDB.
URL:https://cordobacapitalcofrade.com/agenda/triduo-en-honor-de-nuestra-senora-de-la-piedad/
LOCATION:Santuario de María Auxiliadora\, C. María Auxiliadora\, 8\, Centro\, 14002 Córdoba\, Córdoba\, España
CATEGORIES:Cultos
ATTACH;FMTTYPE=image/jpeg:https://cordobacapitalcofrade.com/wp-content/uploads/2024/08/457456429_927834276053833_16779894099527254_n.jpg
END:VEVENT
END:VCALENDAR