BEGIN:VCALENDAR
VERSION:2.0
PRODID:-//Agenda Cofrade 365 Días - ECPv6.3.7//NONSGML v1.0//EN
CALSCALE:GREGORIAN
METHOD:PUBLISH
X-WR-CALNAME:Agenda Cofrade 365 Días
X-ORIGINAL-URL:https://cordobacapitalcofrade.com
X-WR-CALDESC:Eventos para Agenda Cofrade 365 Días
REFRESH-INTERVAL;VALUE=DURATION:PT1H
X-Robots-Tag:noindex
X-PUBLISHED-TTL:PT1H
BEGIN:VTIMEZONE
TZID:UTC
BEGIN:STANDARD
TZOFFSETFROM:+0000
TZOFFSETTO:+0000
TZNAME:UTC
DTSTART:20250101T000000
END:STANDARD
END:VTIMEZONE
BEGIN:VEVENT
DTSTART;TZID=UTC:20250912T210000
DTEND;TZID=UTC:20250912T235900
DTSTAMP:20260425T141906
CREATED:20250725T173520Z
LAST-MODIFIED:20250909T112846Z
UID:6503-1757710800-1757721540@cordobacapitalcofrade.com
SUMMARY:1er Ensayo de costaleros de Nuestro Padre Jesús Nazareno Rescatado Magno Vía Crucis
DESCRIPTION:1er Ensayo de costaleros de Nuestro Padre Jesús Nazareno Rescatado de cara al Magno Vía Crucis\, a las 21:00 horas desde el Colegio de los Trinitarios.
URL:https://cordobacapitalcofrade.com/agenda/1er-ensayo-de-costaleros-de-nuestro-padre-jesus-nazareno-rescatado-magno-via-crucis/
LOCATION:Patio del Colegio de los Trinitarios\, C. Rda. del Marrubial\, 2\, Centro\, 14007 Córdoba\, Córdoba\, España
CATEGORIES:Ensayos Costaleros
ATTACH;FMTTYPE=image/jpeg:https://cordobacapitalcofrade.com/wp-content/uploads/2025/07/490719665_701111132574747_5898533756491112637_n.jpg
END:VEVENT
BEGIN:VEVENT
DTSTART;TZID=UTC:20250925T200000
DTEND;TZID=UTC:20250927T210000
DTSTAMP:20260425T141906
CREATED:20250912T124747Z
LAST-MODIFIED:20250912T124747Z
UID:6998-1758830400-1759006800@cordobacapitalcofrade.com
SUMMARY:Solemne Triduo en honor de María Santísima de la Amargura
DESCRIPTION:Solemne Triduo en honor de María Santísima de la Amargura\, a las 20:00 horas en la Parroquia de Nuestra Señora de Gracia (Trinitarios).
URL:https://cordobacapitalcofrade.com/agenda/solemne-triduo-en-honor-de-maria-santisima-de-la-amargura/
LOCATION:Parroquia de Ntra. Sra. De Gracia y San Eulogio (P.P. Trinitarios)\, Plaza Cristo de Gracia\, 5\, Córdoba\, Córdoba\, 14002\, España
CATEGORIES:Cultos
ATTACH;FMTTYPE=image/jpeg:https://cordobacapitalcofrade.com/wp-content/uploads/2025/09/488067387_1115829063922093_5375820949804590681_n.jpg
END:VEVENT
BEGIN:VEVENT
DTSTART;TZID=UTC:20250926T213000
DTEND;TZID=UTC:20250926T235900
DTSTAMP:20260425T141906
CREATED:20250725T173716Z
LAST-MODIFIED:20250725T173716Z
UID:6506-1758922200-1758931140@cordobacapitalcofrade.com
SUMMARY:2º Ensayo de costaleros de Nuestro Padre Jesús Nazareno Rescatado Magno Vía Crucis
DESCRIPTION:2º Ensayo de costaleros de Nuestro Padre Jesús Nazareno Rescatado de cara al Magno Vía Crucis\, a las 21:30 horas desde el local de salida anexo a la Parroquia de Nuestra Señora de Gracia (Trinitarios).
URL:https://cordobacapitalcofrade.com/agenda/2o-ensayo-de-costaleros-de-nuestro-padre-jesus-nazareno-rescatado-magno-via-crucis/
LOCATION:Parroquia de Ntra. Sra. De Gracia y San Eulogio (P.P. Trinitarios)\, Plaza Cristo de Gracia\, 5\, Córdoba\, Córdoba\, 14002\, España
CATEGORIES:Ensayos Costaleros
ATTACH;FMTTYPE=image/jpeg:https://cordobacapitalcofrade.com/wp-content/uploads/2025/07/490719665_701111132574747_5898533756491112637_n.jpg
END:VEVENT
BEGIN:VEVENT
DTSTART;TZID=UTC:20250928T080000
DTEND;TZID=UTC:20250928T210000
DTSTAMP:20260425T141906
CREATED:20250912T125400Z
LAST-MODIFIED:20250912T125400Z
UID:7003-1759046400-1759093200@cordobacapitalcofrade.com
SUMMARY:Besamanos de María Santísima de la Amargura
DESCRIPTION:Besamanos de María Santísima de la Amargura en horario de 08:00 a 14:00 horas y de 16:00 a 21:00 horas en la Parroquia de Nuestra Señora de Gracia (Trinitarios).
URL:https://cordobacapitalcofrade.com/agenda/besamanos-de-maria-santisima-de-la-amargura/
LOCATION:Parroquia de Ntra. Sra. De Gracia y San Eulogio (P.P. Trinitarios)\, Plaza Cristo de Gracia\, 5\, Córdoba\, Córdoba\, 14002\, España
CATEGORIES:Cultos
ATTACH;FMTTYPE=image/jpeg:https://cordobacapitalcofrade.com/wp-content/uploads/2025/09/463897185_18323253892159266_7986763734131648710_n.jpg
END:VEVENT
BEGIN:VEVENT
DTSTART;TZID=UTC:20250928T123000
DTEND;TZID=UTC:20250928T133000
DTSTAMP:20260425T141906
CREATED:20250912T124958Z
LAST-MODIFIED:20250912T124958Z
UID:7001-1759062600-1759066200@cordobacapitalcofrade.com
SUMMARY:Función Principal de Instituto de la Hermandad del Rescatado
DESCRIPTION:Función Principal de Instituto de la Hermandad\, a las 12:30 horas en la Parroquia de Nuestra Señora de Gracia (Trinitarios).
URL:https://cordobacapitalcofrade.com/agenda/funcion-principal-de-instituto-de-la-hermandad-del-rescatado/
LOCATION:Parroquia de Ntra. Sra. De Gracia y San Eulogio (P.P. Trinitarios)\, Plaza Cristo de Gracia\, 5\, Córdoba\, Córdoba\, 14002\, España
CATEGORIES:Cultos
ATTACH;FMTTYPE=image/jpeg:https://cordobacapitalcofrade.com/wp-content/uploads/2025/09/488067387_1115829063922093_5375820949804590681_n.jpg
END:VEVENT
END:VCALENDAR